BEGIN:VCALENDAR
VERSION:2.0
PRODID:-//Burlington NJ - ECPv6.15.20//NONSGML v1.0//EN
CALSCALE:GREGORIAN
METHOD:PUBLISH
X-ORIGINAL-URL:https://www.burlingtonnj.us
X-WR-CALDESC:Events for Burlington NJ
REFRESH-INTERVAL;VALUE=DURATION:PT1H
X-Robots-Tag:noindex
X-PUBLISHED-TTL:PT1H
BEGIN:VTIMEZONE
TZID:America/New_York
BEGIN:DAYLIGHT
TZOFFSETFROM:-0500
TZOFFSETTO:-0400
TZNAME:EDT
DTSTART:20230312T070000
END:DAYLIGHT
BEGIN:STANDARD
TZOFFSETFROM:-0400
TZOFFSETTO:-0500
TZNAME:EST
DTSTART:20231105T060000
END:STANDARD
BEGIN:DAYLIGHT
TZOFFSETFROM:-0500
TZOFFSETTO:-0400
TZNAME:EDT
DTSTART:20240310T070000
END:DAYLIGHT
BEGIN:STANDARD
TZOFFSETFROM:-0400
TZOFFSETTO:-0500
TZNAME:EST
DTSTART:20241103T060000
END:STANDARD
BEGIN:DAYLIGHT
TZOFFSETFROM:-0500
TZOFFSETTO:-0400
TZNAME:EDT
DTSTART:20250309T070000
END:DAYLIGHT
BEGIN:STANDARD
TZOFFSETFROM:-0400
TZOFFSETTO:-0500
TZNAME:EST
DTSTART:20251102T060000
END:STANDARD
END:VTIMEZONE
BEGIN:VEVENT
DTSTART;TZID=America/New_York:20240616T140000
DTEND;TZID=America/New_York:20240616T190000
DTSTAMP:20260421T103105
CREATED:20240607T175236Z
LAST-MODIFIED:20240607T175855Z
UID:10000837-1718546400-1718564400@www.burlingtonnj.us
SUMMARY:Burlington Freedom Day 2024 | A Juneteenth Celebration!
DESCRIPTION:CHAI and Community Deverlopment Corporation Presents: \nBurlington Freedom Day 2024 | A Juneteenth Celebration!\nHonoring our \nFreedom to Gather!  | Saturday\, June 15th 2 to 7 pm\nPraise on the Promenade! Celebrating our Legacy of Hope & Faith* – Sunday\, June 16th 2 to 7pm \n*Come and enjoy live music\, spoken work\, great food\, vendors of all sort\, family friendly fun\, and our Kids Zone with FREE lunch for the kids on Saturday! \nFor more information or vending\, call Trina @ 609.336.6202 \n\n    \n    \n            \n            \n        \n    \n\n    \n                        Chai Pantry Flyer 5-24-24\n        \n                    File size: 330.60 KB\n                    Created: 07-06-2024\n                    Updated: 07-06-2024\n                    Hits: 256\n        \n    \n    \n                                \n                    \n                    Download\n                \n                    \n                        \n                        Preview
URL:https://www.burlingtonnj.us/event/burlington-freedom-day-2024-a-juneteenth-celebration/2024-06-16/
LOCATION:Burlington Riverfront Promenade\, 1 Pearl Boulevard\, Burlington\, NJ\, 08016\, United States
CATEGORIES:Activities,Community
ATTACH;FMTTYPE=image/jpeg:https://www.burlingtonnj.us/wp-content/uploads/2024/06/events-june-2024-freedom-day.jpg
END:VEVENT
END:VCALENDAR