BEGIN:VCALENDAR
VERSION:2.0
PRODID:-//Burlington NJ - ECPv6.15.20//NONSGML v1.0//EN
CALSCALE:GREGORIAN
METHOD:PUBLISH
X-ORIGINAL-URL:https://www.burlingtonnj.us
X-WR-CALDESC:Events for Burlington NJ
REFRESH-INTERVAL;VALUE=DURATION:PT1H
X-Robots-Tag:noindex
X-PUBLISHED-TTL:PT1H
BEGIN:VTIMEZONE
TZID:America/New_York
BEGIN:DAYLIGHT
TZOFFSETFROM:-0500
TZOFFSETTO:-0400
TZNAME:EDT
DTSTART:20230312T070000
END:DAYLIGHT
BEGIN:STANDARD
TZOFFSETFROM:-0400
TZOFFSETTO:-0500
TZNAME:EST
DTSTART:20231105T060000
END:STANDARD
BEGIN:DAYLIGHT
TZOFFSETFROM:-0500
TZOFFSETTO:-0400
TZNAME:EDT
DTSTART:20240310T070000
END:DAYLIGHT
BEGIN:STANDARD
TZOFFSETFROM:-0400
TZOFFSETTO:-0500
TZNAME:EST
DTSTART:20241103T060000
END:STANDARD
BEGIN:DAYLIGHT
TZOFFSETFROM:-0500
TZOFFSETTO:-0400
TZNAME:EDT
DTSTART:20250309T070000
END:DAYLIGHT
BEGIN:STANDARD
TZOFFSETFROM:-0400
TZOFFSETTO:-0500
TZNAME:EST
DTSTART:20251102T060000
END:STANDARD
END:VTIMEZONE
BEGIN:VEVENT
DTSTART;TZID=America/New_York:20240622T090000
DTEND;TZID=America/New_York:20240622T160000
DTSTAMP:20260423T090744
CREATED:20240515T075803Z
LAST-MODIFIED:20240515T075846Z
UID:10000836-1719046800-1719072000@www.burlingtonnj.us
SUMMARY:AGNJ 1st Annual Poetry Festival: Rhyme and Reason
DESCRIPTION:Sponsored by:\nArts Guild New Jersey\nSaturday June 22\, 2024 | 9am – 4pm (continental breakfast) \nWhat is a poem? If it doesn’t rhyme\, is it still a poem? Can the rules for writing poetry be broken? \nExplore these and other questions related to poetry at this day long literary celebration\, brought to you by the Arts Guild New Jersey (AGNJ).
URL:https://www.burlingtonnj.us/event/agnj-1st-annual-poetry-festival-rhyme-and-reason/
LOCATION:Burlington Quaker Meeting House\, 340 High Street\, Burlington\, NJ\, 08016\, United States
CATEGORIES:Activities,Community
END:VEVENT
END:VCALENDAR