BEGIN:VCALENDAR
VERSION:2.0
PRODID:-//Burlington NJ - ECPv6.15.20//NONSGML v1.0//EN
CALSCALE:GREGORIAN
METHOD:PUBLISH
X-ORIGINAL-URL:https://www.burlingtonnj.us
X-WR-CALDESC:Events for Burlington NJ
REFRESH-INTERVAL;VALUE=DURATION:PT1H
X-Robots-Tag:noindex
X-PUBLISHED-TTL:PT1H
BEGIN:VTIMEZONE
TZID:America/New_York
BEGIN:DAYLIGHT
TZOFFSETFROM:-0500
TZOFFSETTO:-0400
TZNAME:EDT
DTSTART:20230312T070000
END:DAYLIGHT
BEGIN:STANDARD
TZOFFSETFROM:-0400
TZOFFSETTO:-0500
TZNAME:EST
DTSTART:20231105T060000
END:STANDARD
BEGIN:DAYLIGHT
TZOFFSETFROM:-0500
TZOFFSETTO:-0400
TZNAME:EDT
DTSTART:20240310T070000
END:DAYLIGHT
BEGIN:STANDARD
TZOFFSETFROM:-0400
TZOFFSETTO:-0500
TZNAME:EST
DTSTART:20241103T060000
END:STANDARD
BEGIN:DAYLIGHT
TZOFFSETFROM:-0500
TZOFFSETTO:-0400
TZNAME:EDT
DTSTART:20250309T070000
END:DAYLIGHT
BEGIN:STANDARD
TZOFFSETFROM:-0400
TZOFFSETTO:-0500
TZNAME:EST
DTSTART:20251102T060000
END:STANDARD
END:VTIMEZONE
BEGIN:VEVENT
DTSTART;TZID=America/New_York:20241110T090000
DTEND;TZID=America/New_York:20241110T130000
DTSTAMP:20260422T113821
CREATED:20240730T182632Z
LAST-MODIFIED:20240903T162818Z
UID:10000852-1731229200-1731243600@www.burlingtonnj.us
SUMMARY:FALL 2024 FALL SHREDDING EVENTS
DESCRIPTION:Fall Shredding Events – Burlington NJ\n        \n                    File size: 366.07 KB\n                    Created: 30-07-2024\n                    Updated: 31-07-2024\n                    Hits: 380\n        \n    \n    \n                                \n                    \n                    Download\n                \n                    \n                        \n                        Preview
URL:https://www.burlingtonnj.us/event/5044/2024-11-10/
LOCATION:Burlington County Resource Recovery Complex\, 22000 Burlington-Columbus Road\, Florence\, New Jersey\, 08518
CATEGORIES:Community
ATTACH;FMTTYPE=application/pdf:https://www.burlingtonnj.us/wp-content/uploads/2024/07/Fall-Shredding-Events-–-Burlington-NJ-4.pdf
END:VEVENT
BEGIN:VEVENT
DTSTART;TZID=America/New_York:20241110T090000
DTEND;TZID=America/New_York:20241110T130000
DTSTAMP:20260422T113821
CREATED:20240731T163941Z
LAST-MODIFIED:20240731T170215Z
UID:10000857-1731229200-1731243600@www.burlingtonnj.us
SUMMARY:2024 Paper Shredding Event
DESCRIPTION:
URL:https://www.burlingtonnj.us/event/2024-paper-shredding-event-2/
LOCATION:Burlington County Resource Recovery Complex\, 22000 Burlington-Columbus Road\, Florence\, New Jersey\, 08518
CATEGORIES:Activities
ATTACH;FMTTYPE=application/pdf:https://www.burlingtonnj.us/wp-content/uploads/2024/07/Fall-Shredding-Events-–-Burlington-NJ-3.pdf
END:VEVENT
END:VCALENDAR