BEGIN:VCALENDAR
VERSION:2.0
PRODID:-//Burlington NJ - ECPv6.15.20//NONSGML v1.0//EN
CALSCALE:GREGORIAN
METHOD:PUBLISH
X-WR-CALNAME:Burlington NJ
X-ORIGINAL-URL:https://www.burlingtonnj.us
X-WR-CALDESC:Events for Burlington NJ
REFRESH-INTERVAL;VALUE=DURATION:PT1H
X-Robots-Tag:noindex
X-PUBLISHED-TTL:PT1H
BEGIN:VTIMEZONE
TZID:America/New_York
BEGIN:DAYLIGHT
TZOFFSETFROM:-0500
TZOFFSETTO:-0400
TZNAME:EDT
DTSTART:20240310T070000
END:DAYLIGHT
BEGIN:STANDARD
TZOFFSETFROM:-0400
TZOFFSETTO:-0500
TZNAME:EST
DTSTART:20241103T060000
END:STANDARD
BEGIN:DAYLIGHT
TZOFFSETFROM:-0500
TZOFFSETTO:-0400
TZNAME:EDT
DTSTART:20250309T070000
END:DAYLIGHT
BEGIN:STANDARD
TZOFFSETFROM:-0400
TZOFFSETTO:-0500
TZNAME:EST
DTSTART:20251102T060000
END:STANDARD
BEGIN:DAYLIGHT
TZOFFSETFROM:-0500
TZOFFSETTO:-0400
TZNAME:EDT
DTSTART:20260308T070000
END:DAYLIGHT
BEGIN:STANDARD
TZOFFSETFROM:-0400
TZOFFSETTO:-0500
TZNAME:EST
DTSTART:20261101T060000
END:STANDARD
END:VTIMEZONE
BEGIN:VEVENT
DTSTART;TZID=America/New_York:20250411T190000
DTEND;TZID=America/New_York:20250411T210000
DTSTAMP:20260424T155940
CREATED:20250312T203558Z
LAST-MODIFIED:20250401T200911Z
UID:10001563-1744398000-1744405200@www.burlingtonnj.us
SUMMARY:Portraits Quartet - Afro-Peruvian Jazz (CANCELLED)
DESCRIPTION:
URL:https://www.burlingtonnj.us/event/portraits-quartet-afro-peruvian-jazz/
LOCATION:H.T. Costello Lyceum Hall\, 432 High Street\, Burlington City (Burlington County\, NJ)\, NJ\, 08016\, United States
CATEGORIES:Activities,Community,Live Music
ATTACH;FMTTYPE=image/png:https://www.burlingtonnj.us/wp-content/uploads/2025/03/portraits-cancelled.png
END:VEVENT
BEGIN:VEVENT
DTSTART;TZID=America/New_York:20250411T193000
DTEND;TZID=America/New_York:20250411T210000
DTSTAMP:20260424T155940
CREATED:20250221T220039Z
LAST-MODIFIED:20250221T220039Z
UID:10001552-1744399800-1744405200@www.burlingtonnj.us
SUMMARY:Fabulous Fifties
DESCRIPTION:
URL:https://www.burlingtonnj.us/event/fabulous-fifties/2025-04-11/
LOCATION:Wilber Watts Intermediate School\, 550 High Street\, Burlington\, NJ\, 08016\, United States
CATEGORIES:Activities,Community,Live Music
ATTACH;FMTTYPE=image/jpeg:https://www.burlingtonnj.us/wp-content/uploads/2025/02/faabulous-fifties-scaled.jpg
END:VEVENT
END:VCALENDAR