BEGIN:VCALENDAR
VERSION:2.0
PRODID:-//Burlington NJ - ECPv6.15.20//NONSGML v1.0//EN
CALSCALE:GREGORIAN
METHOD:PUBLISH
X-WR-CALNAME:Burlington NJ
X-ORIGINAL-URL:https://www.burlingtonnj.us
X-WR-CALDESC:Events for Burlington NJ
REFRESH-INTERVAL;VALUE=DURATION:PT1H
X-Robots-Tag:noindex
X-PUBLISHED-TTL:PT1H
BEGIN:VTIMEZONE
TZID:America/New_York
BEGIN:DAYLIGHT
TZOFFSETFROM:-0500
TZOFFSETTO:-0400
TZNAME:EDT
DTSTART:20240310T070000
END:DAYLIGHT
BEGIN:STANDARD
TZOFFSETFROM:-0400
TZOFFSETTO:-0500
TZNAME:EST
DTSTART:20241103T060000
END:STANDARD
BEGIN:DAYLIGHT
TZOFFSETFROM:-0500
TZOFFSETTO:-0400
TZNAME:EDT
DTSTART:20250309T070000
END:DAYLIGHT
BEGIN:STANDARD
TZOFFSETFROM:-0400
TZOFFSETTO:-0500
TZNAME:EST
DTSTART:20251102T060000
END:STANDARD
BEGIN:DAYLIGHT
TZOFFSETFROM:-0500
TZOFFSETTO:-0400
TZNAME:EDT
DTSTART:20260308T070000
END:DAYLIGHT
BEGIN:STANDARD
TZOFFSETFROM:-0400
TZOFFSETTO:-0500
TZNAME:EST
DTSTART:20261101T060000
END:STANDARD
END:VTIMEZONE
BEGIN:VEVENT
DTSTART;TZID=America/New_York:20251206T150000
DTEND;TZID=America/New_York:20251206T200000
DTSTAMP:20260424T192246
CREATED:20251017T151129Z
LAST-MODIFIED:20251017T151129Z
UID:10001660-1765033200-1765051200@www.burlingtonnj.us
SUMMARY:Holiday Parade & Village
DESCRIPTION:
URL:https://www.burlingtonnj.us/event/holiday-parade-village/
LOCATION:Burlington Riverfront Promenade\, 1 Pearl Boulevard\, Burlington\, NJ\, 08016\, United States
CATEGORIES:Activities,Community,Food/Drink,Live Music
ATTACH;FMTTYPE=image/png:https://www.burlingtonnj.us/wp-content/uploads/2025/10/Holiday-Parade.png
END:VEVENT
BEGIN:VEVENT
DTSTART;TZID=America/New_York:20251207T150000
DTEND;TZID=America/New_York:20251207T190000
DTSTAMP:20260424T192246
CREATED:20251110T215947Z
LAST-MODIFIED:20251110T215947Z
UID:10001662-1765119600-1765134000@www.burlingtonnj.us
SUMMARY:Holiday House Tours
DESCRIPTION:
URL:https://www.burlingtonnj.us/event/holiday-house-tours-2/
LOCATION:NJ
CATEGORIES:Activities,Community
ATTACH;FMTTYPE=image/png:https://www.burlingtonnj.us/wp-content/uploads/2025/11/House-Tours.png
END:VEVENT
BEGIN:VEVENT
DTSTART;TZID=America/New_York:20251211T190000
DTEND;TZID=America/New_York:20251212T210000
DTSTAMP:20260424T192246
CREATED:20251112T150829Z
LAST-MODIFIED:20251112T150829Z
UID:10001663-1765479600-1765573200@www.burlingtonnj.us
SUMMARY:Winnie The Pooh: The Musical
DESCRIPTION:
URL:https://www.burlingtonnj.us/event/winnie-the-pooh-the-musical/
LOCATION:H.T. Costello Lyceum Hall\, 432 High Street\, Burlington City (Burlington County\, NJ)\, NJ\, 08016\, United States
CATEGORIES:Activities,Community,Live Music
ATTACH;FMTTYPE=image/png:https://www.burlingtonnj.us/wp-content/uploads/2025/11/Screenshot-2025-11-11-at-7.34.34-AM.png
END:VEVENT
BEGIN:VEVENT
DTSTART;TZID=America/New_York:20251213T100000
DTEND;TZID=America/New_York:20251213T113000
DTSTAMP:20260424T192246
CREATED:20251016T140339Z
LAST-MODIFIED:20251016T140339Z
UID:10001658-1765620000-1765625400@www.burlingtonnj.us
SUMMARY:Food Bank at the Keegan Center
DESCRIPTION:
URL:https://www.burlingtonnj.us/event/food-bank-at-the-keegan-center-13/
LOCATION:Keegan Recreation Center\, 522 Wood Street\, Burlington City (Burlington County\, NJ)\, NJ\, 08016\, United States
CATEGORIES:Activities,Community
ATTACH;FMTTYPE=image/jpeg:https://www.burlingtonnj.us/wp-content/uploads/2025/10/December-Food-bank-2025-scaled.jpg
END:VEVENT
BEGIN:VEVENT
DTSTART;TZID=America/New_York:20251213T140000
DTEND;TZID=America/New_York:20251213T180000
DTSTAMP:20260424T192246
CREATED:20251112T150944Z
LAST-MODIFIED:20251112T150944Z
UID:10001664-1765634400-1765648800@www.burlingtonnj.us
SUMMARY:Holiday Market
DESCRIPTION:
URL:https://www.burlingtonnj.us/event/holiday-market/
LOCATION:H.T. Costello Lyceum Hall\, 432 High Street\, Burlington City (Burlington County\, NJ)\, NJ\, 08016\, United States
CATEGORIES:Activities,Community
ATTACH;FMTTYPE=image/png:https://www.burlingtonnj.us/wp-content/uploads/2025/11/2025-Holiday-market-flyer.png
END:VEVENT
BEGIN:VEVENT
DTSTART;TZID=America/New_York:20251215T180000
DTEND;TZID=America/New_York:20251215T210000
DTSTAMP:20260424T192246
CREATED:20251202T161517Z
LAST-MODIFIED:20251202T161517Z
UID:10001668-1765821600-1765832400@www.burlingtonnj.us
SUMMARY:Revolutionary Trivia
DESCRIPTION:
URL:https://www.burlingtonnj.us/event/revolutionary-trivia/
LOCATION:Raccoon Pubhaus\, 352 High Street\, Burlington\, NJ\, 08016\, United States
CATEGORIES:Activities,Community
ATTACH;FMTTYPE=image/png:https://www.burlingtonnj.us/wp-content/uploads/2025/12/Revolutionary-War-Trivia-Final-2.png
ORGANIZER;CN="Burlington County Historical Society":MAILTO:burlcohistsoc@verizon.net
END:VEVENT
BEGIN:VEVENT
DTSTART;TZID=America/New_York:20251220T110000
DTEND;TZID=America/New_York:20251220T140000
DTSTAMP:20260424T192246
CREATED:20251216T162724Z
LAST-MODIFIED:20251216T162724Z
UID:10001671-1766228400-1766239200@www.burlingtonnj.us
SUMMARY:BCHS Holiday Market
DESCRIPTION:
URL:https://www.burlingtonnj.us/event/bchs-holiday-market/
LOCATION:Burlington City High School\, 100 Blue Devil\, Burlington\, NJ\, 08016\, United States
CATEGORIES:Activities,Community
ATTACH;FMTTYPE=application/pdf:https://www.burlingtonnj.us/wp-content/uploads/2025/12/BCHS-Holiday-Market-Flyer-12-20-25.pdf
END:VEVENT
END:VCALENDAR