BEGIN:VCALENDAR
VERSION:2.0
PRODID:-//Burlington NJ - ECPv6.15.20//NONSGML v1.0//EN
CALSCALE:GREGORIAN
METHOD:PUBLISH
X-ORIGINAL-URL:https://www.burlingtonnj.us
X-WR-CALDESC:Events for Burlington NJ
REFRESH-INTERVAL;VALUE=DURATION:PT1H
X-Robots-Tag:noindex
X-PUBLISHED-TTL:PT1H
BEGIN:VTIMEZONE
TZID:America/New_York
BEGIN:DAYLIGHT
TZOFFSETFROM:-0500
TZOFFSETTO:-0400
TZNAME:EDT
DTSTART:20240310T070000
END:DAYLIGHT
BEGIN:STANDARD
TZOFFSETFROM:-0400
TZOFFSETTO:-0500
TZNAME:EST
DTSTART:20241103T060000
END:STANDARD
BEGIN:DAYLIGHT
TZOFFSETFROM:-0500
TZOFFSETTO:-0400
TZNAME:EDT
DTSTART:20250309T070000
END:DAYLIGHT
BEGIN:STANDARD
TZOFFSETFROM:-0400
TZOFFSETTO:-0500
TZNAME:EST
DTSTART:20251102T060000
END:STANDARD
BEGIN:DAYLIGHT
TZOFFSETFROM:-0500
TZOFFSETTO:-0400
TZNAME:EDT
DTSTART:20260308T070000
END:DAYLIGHT
BEGIN:STANDARD
TZOFFSETFROM:-0400
TZOFFSETTO:-0500
TZNAME:EST
DTSTART:20261101T060000
END:STANDARD
END:VTIMEZONE
BEGIN:VEVENT
DTSTART;TZID=America/New_York:20251004T090000
DTEND;TZID=America/New_York:20251004T150000
DTSTAMP:20260425T133106
CREATED:20250724T195328Z
LAST-MODIFIED:20250724T195328Z
UID:10001622-1759568400-1759590000@www.burlingtonnj.us
SUMMARY:East Union Street Yard Sale
DESCRIPTION:
URL:https://www.burlingtonnj.us/event/east-union-street-yard-sale-3/
LOCATION:East Union Street\, East Union Street\, Burlington\, NJ\, 08016\, United States
CATEGORIES:Activities,Community,Food/Drink
ATTACH;FMTTYPE=image/jpeg:https://www.burlingtonnj.us/wp-content/uploads/2025/07/East-Union-Street-Yard-Sale-2025.jpg
ORGANIZER;CN="Historic Yorkshire Alliance":MAILTO:ubgoodharry@yahoo.com
END:VEVENT
BEGIN:VEVENT
DTSTART;TZID=America/New_York:20251004T100000
DTEND;TZID=America/New_York:20251004T140000
DTSTAMP:20260425T133106
CREATED:20251002T132109Z
LAST-MODIFIED:20251002T132109Z
UID:10001640-1759572000-1759586400@www.burlingtonnj.us
SUMMARY:Soccer Games
DESCRIPTION:
URL:https://www.burlingtonnj.us/event/soccer-games/2025-10-04/
LOCATION:NJ
CATEGORIES:Activities,Community
ATTACH;FMTTYPE=image/jpeg:https://www.burlingtonnj.us/wp-content/uploads/2025/10/Schedules_-2025-Season-Oct-Nov_Page_1.jpg
END:VEVENT
BEGIN:VEVENT
DTSTART;TZID=America/New_York:20251004T100000
DTEND;TZID=America/New_York:20251004T150000
DTSTAMP:20260425T133106
CREATED:20250501T155406Z
LAST-MODIFIED:20250501T155937Z
UID:10001597-1759572000-1759590000@www.burlingtonnj.us
SUMMARY:K-9 Car Show
DESCRIPTION:
URL:https://www.burlingtonnj.us/event/cruzin-on-the-river-car-motorcycle-cruise-nights-concerts-2/
LOCATION:Burlington Riverfront Promenade\, 1 Pearl Boulevard\, Burlington\, NJ\, 08016\, United States
CATEGORIES:Activities,Community,Food/Drink,Live Music
ATTACH;FMTTYPE=image/jpeg:https://www.burlingtonnj.us/wp-content/uploads/2025/05/Car-Show-Registration-Form-Oct-4-2025.jpg
END:VEVENT
BEGIN:VEVENT
DTSTART;TZID=America/New_York:20251005T100000
DTEND;TZID=America/New_York:20251005T170000
DTSTAMP:20260425T133106
CREATED:20251002T132834Z
LAST-MODIFIED:20251002T132834Z
UID:10001646-1759658400-1759683600@www.burlingtonnj.us
SUMMARY:Football Games
DESCRIPTION:
URL:https://www.burlingtonnj.us/event/football-games/2025-10-05/
LOCATION:NJ
CATEGORIES:Activities,Community
ATTACH;FMTTYPE=image/png:https://www.burlingtonnj.us/wp-content/uploads/2025/10/1000020533.png
END:VEVENT
BEGIN:VEVENT
DTSTART;TZID=America/New_York:20251007T170000
DTEND;TZID=America/New_York:20251007T200000
DTSTAMP:20260425T133106
CREATED:20251001T142356Z
LAST-MODIFIED:20251001T143149Z
UID:10001635-1759856400-1759867200@www.burlingtonnj.us
SUMMARY:Annual Veterans Expo
DESCRIPTION:
URL:https://www.burlingtonnj.us/event/annual-veterans-expo/
LOCATION:Rowan College at Burlington County Student Success Center\, 1500 College Circle\, Mount Laurel\, NJ\, 08054\, United States
CATEGORIES:Activities,Community
ATTACH;FMTTYPE=image/jpeg:https://www.burlingtonnj.us/wp-content/uploads/2025/10/IMG_0060.jpeg
END:VEVENT
BEGIN:VEVENT
DTSTART;TZID=America/New_York:20251011T100000
DTEND;TZID=America/New_York:20251011T113000
DTSTAMP:20260425T133106
CREATED:20250915T204847Z
LAST-MODIFIED:20250915T204847Z
UID:10001633-1760176800-1760182200@www.burlingtonnj.us
SUMMARY:Food Bank at the Keegan Center
DESCRIPTION:
URL:https://www.burlingtonnj.us/event/food-bank-at-the-keegan-center-11/
LOCATION:Keegan Recreation Center\, 522 Wood Street\, Burlington City (Burlington County\, NJ)\, NJ\, 08016\, United States
CATEGORIES:Activities,Community
ATTACH;FMTTYPE=image/jpeg:https://www.burlingtonnj.us/wp-content/uploads/2025/09/Oct-Food-bank-2025.pdf-scaled.jpg
END:VEVENT
BEGIN:VEVENT
DTSTART;TZID=America/New_York:20251011T113000
DTEND;TZID=America/New_York:20251011T140000
DTSTAMP:20260425T133106
CREATED:20251002T132834Z
LAST-MODIFIED:20251002T132834Z
UID:10001647-1760182200-1760191200@www.burlingtonnj.us
SUMMARY:Football Games
DESCRIPTION:
URL:https://www.burlingtonnj.us/event/football-games/2025-10-11/
LOCATION:NJ
CATEGORIES:Activities,Community
ATTACH;FMTTYPE=image/png:https://www.burlingtonnj.us/wp-content/uploads/2025/10/1000020533.png
END:VEVENT
BEGIN:VEVENT
DTSTART;TZID=America/New_York:20251011T190000
DTEND;TZID=America/New_York:20251011T210000
DTSTAMP:20260425T133106
CREATED:20250924T190805Z
LAST-MODIFIED:20251006T183312Z
UID:10001653-1760209200-1760216400@www.burlingtonnj.us
SUMMARY:Drew Nugent & the Midnight Society
DESCRIPTION:
URL:https://www.burlingtonnj.us/event/drew-nugent-the-midnight-society/
LOCATION:H.T. Costello Lyceum Hall\, 432 High Street\, Burlington City (Burlington County\, NJ)\, NJ\, 08016\, United States
CATEGORIES:Activities,Community,Live Music
ATTACH;FMTTYPE=image/png:https://www.burlingtonnj.us/wp-content/uploads/2025/09/Drew-Nugent.png
END:VEVENT
BEGIN:VEVENT
DTSTART;TZID=America/New_York:20251012T100000
DTEND;TZID=America/New_York:20251012T170000
DTSTAMP:20260425T133106
CREATED:20251002T132834Z
LAST-MODIFIED:20251002T132834Z
UID:10001648-1760263200-1760288400@www.burlingtonnj.us
SUMMARY:Football Games
DESCRIPTION:
URL:https://www.burlingtonnj.us/event/football-games/2025-10-12/
LOCATION:NJ
CATEGORIES:Activities,Community
ATTACH;FMTTYPE=image/png:https://www.burlingtonnj.us/wp-content/uploads/2025/10/1000020533.png
END:VEVENT
BEGIN:VEVENT
DTSTART;TZID=America/New_York:20251018T100000
DTEND;TZID=America/New_York:20251018T140000
DTSTAMP:20260425T133106
CREATED:20251002T132109Z
LAST-MODIFIED:20251002T132109Z
UID:10001641-1760781600-1760796000@www.burlingtonnj.us
SUMMARY:Soccer Games
DESCRIPTION:
URL:https://www.burlingtonnj.us/event/soccer-games/2025-10-18/
LOCATION:NJ
CATEGORIES:Activities,Community
ATTACH;FMTTYPE=image/jpeg:https://www.burlingtonnj.us/wp-content/uploads/2025/10/Schedules_-2025-Season-Oct-Nov_Page_1.jpg
END:VEVENT
BEGIN:VEVENT
DTSTART;TZID=America/New_York:20251018T110000
DTEND;TZID=America/New_York:20251018T140000
DTSTAMP:20260425T133106
CREATED:20251002T132834Z
LAST-MODIFIED:20251002T132834Z
UID:10001649-1760785200-1760796000@www.burlingtonnj.us
SUMMARY:Football Games
DESCRIPTION:
URL:https://www.burlingtonnj.us/event/football-games/2025-10-18/
LOCATION:NJ
CATEGORIES:Activities,Community
ATTACH;FMTTYPE=image/png:https://www.burlingtonnj.us/wp-content/uploads/2025/10/1000020533.png
END:VEVENT
BEGIN:VEVENT
DTSTART;TZID=America/New_York:20251018T120000
DTEND;TZID=America/New_York:20251018T140000
DTSTAMP:20260425T133106
CREATED:20251001T143005Z
LAST-MODIFIED:20251001T143028Z
UID:10001636-1760788800-1760796000@www.burlingtonnj.us
SUMMARY:Trunk or Treat
DESCRIPTION:
URL:https://www.burlingtonnj.us/event/trunk-or-treat-2/
LOCATION:Burlington County Special Services School\, 20 Pioneer Blvd\, Westampton\, NJ\, 08060\, United States
CATEGORIES:Activities,Community
ATTACH;FMTTYPE=image/jpeg:https://www.burlingtonnj.us/wp-content/uploads/2025/10/IMG_0064.jpeg
END:VEVENT
BEGIN:VEVENT
DTSTART;TZID=America/New_York:20251018T170000
DTEND;TZID=America/New_York:20251018T183000
DTSTAMP:20260425T133106
CREATED:20251002T193525Z
LAST-MODIFIED:20251002T193525Z
UID:10001652-1760806800-1760812200@www.burlingtonnj.us
SUMMARY:Burlington City's Trunk or Treat
DESCRIPTION:
URL:https://www.burlingtonnj.us/event/burlington-citys-trunk-or-treat/
LOCATION:Burlington Riverfront Promenade\, 1 Pearl Boulevard\, Burlington\, NJ\, 08016\, United States
CATEGORIES:Activities,Community
ATTACH;FMTTYPE=image/png:https://www.burlingtonnj.us/wp-content/uploads/2025/10/Trunk-or-Treat.png
END:VEVENT
BEGIN:VEVENT
DTSTART;TZID=America/New_York:20251019T100000
DTEND;TZID=America/New_York:20251019T170000
DTSTAMP:20260425T133106
CREATED:20251002T132834Z
LAST-MODIFIED:20251002T132834Z
UID:10001650-1760868000-1760893200@www.burlingtonnj.us
SUMMARY:Football Games
DESCRIPTION:
URL:https://www.burlingtonnj.us/event/football-games/2025-10-19/
LOCATION:NJ
CATEGORIES:Activities,Community
ATTACH;FMTTYPE=image/png:https://www.burlingtonnj.us/wp-content/uploads/2025/10/1000020533.png
END:VEVENT
BEGIN:VEVENT
DTSTART;TZID=America/New_York:20251021T083000
DTEND;TZID=America/New_York:20251021T153000
DTSTAMP:20260425T133106
CREATED:20251001T143831Z
LAST-MODIFIED:20251001T144322Z
UID:10001637-1761035400-1761060600@www.burlingtonnj.us
SUMMARY:Defensive Driving Course
DESCRIPTION:
URL:https://www.burlingtonnj.us/event/de/
LOCATION:Burlington County Emergency Services Training Center (ESTC)\, 53 Academy Drive\, Westampton\, NJ\, 08060\, United States
CATEGORIES:Community,Workshops
ATTACH;FMTTYPE=image/jpeg:https://www.burlingtonnj.us/wp-content/uploads/2025/10/IMG_0062.jpeg
END:VEVENT
BEGIN:VEVENT
DTSTART;TZID=America/New_York:20251022T150000
DTEND;TZID=America/New_York:20251022T180000
DTSTAMP:20260425T133106
CREATED:20251001T144946Z
LAST-MODIFIED:20251001T144946Z
UID:10001639-1761145200-1761156000@www.burlingtonnj.us
SUMMARY:Veteran Appreciation Dinner
DESCRIPTION:
URL:https://www.burlingtonnj.us/event/veteran-appreciation-dinner/
LOCATION:VFW Post 3020\, 1125 S. Fairview St\, Delran\, NJ\, 08075\, United States
CATEGORIES:Community,Food/Drink
ATTACH;FMTTYPE=image/jpeg:https://www.burlingtonnj.us/wp-content/uploads/2025/10/IMG_0061.jpeg
END:VEVENT
BEGIN:VEVENT
DTSTART;VALUE=DATE:20251023
DTEND;VALUE=DATE:20251024
DTSTAMP:20260425T133106
CREATED:20250904T182656Z
LAST-MODIFIED:20250904T182656Z
UID:10001632-1761177600-1761263999@www.burlingtonnj.us
SUMMARY:Burlington County Expungement Clinic & Resource Fair
DESCRIPTION:
URL:https://www.burlingtonnj.us/event/burlington-county-expungement-clinic-resource-fair/
LOCATION:Tabernacle Baptist Church\, 150 E 2nd St\, Burlington\, NJ\, 08016\, United States
CATEGORIES:Community
ATTACH;FMTTYPE=image/jpeg:https://www.burlingtonnj.us/wp-content/uploads/2025/09/Burlington-County-Expungement-Clinic.jpg
END:VEVENT
BEGIN:VEVENT
DTSTART;TZID=America/New_York:20251024T180000
DTEND;TZID=America/New_York:20251024T210000
DTSTAMP:20260425T133106
CREATED:20250501T162351Z
LAST-MODIFIED:20250922T200155Z
UID:10001598-1761328800-1761339600@www.burlingtonnj.us
SUMMARY:Walk With the Ghosts Tours
DESCRIPTION:
URL:https://www.burlingtonnj.us/event/walk-with-the-ghosts-tours/2025-10-24/
LOCATION:Burlington Riverfront Promenade\, 1 Pearl Boulevard\, Burlington\, NJ\, 08016\, United States
CATEGORIES:Activities,Community
ATTACH;FMTTYPE=image/jpeg:https://www.burlingtonnj.us/wp-content/uploads/2025/05/Ghost-Tour-Flyer-2025-Final-scaled.jpg
END:VEVENT
BEGIN:VEVENT
DTSTART;TZID=America/New_York:20251025T083000
DTEND;TZID=America/New_York:20251025T160000
DTSTAMP:20260425T133106
CREATED:20251002T132834Z
LAST-MODIFIED:20251002T132834Z
UID:10001651-1761381000-1761408000@www.burlingtonnj.us
SUMMARY:Football Games
DESCRIPTION:
URL:https://www.burlingtonnj.us/event/football-games/2025-10-25/
LOCATION:NJ
CATEGORIES:Activities,Community
ATTACH;FMTTYPE=image/png:https://www.burlingtonnj.us/wp-content/uploads/2025/10/1000020533.png
END:VEVENT
BEGIN:VEVENT
DTSTART;TZID=America/New_York:20251025T100000
DTEND;TZID=America/New_York:20251025T140000
DTSTAMP:20260425T133106
CREATED:20251002T132109Z
LAST-MODIFIED:20251002T132109Z
UID:10001642-1761386400-1761400800@www.burlingtonnj.us
SUMMARY:Soccer Games
DESCRIPTION:
URL:https://www.burlingtonnj.us/event/soccer-games/2025-10-25/
LOCATION:NJ
CATEGORIES:Activities,Community
ATTACH;FMTTYPE=image/jpeg:https://www.burlingtonnj.us/wp-content/uploads/2025/10/Schedules_-2025-Season-Oct-Nov_Page_1.jpg
END:VEVENT
BEGIN:VEVENT
DTSTART;TZID=America/New_York:20251025T120000
DTEND;TZID=America/New_York:20251025T170000
DTSTAMP:20260425T133106
CREATED:20251020T142012Z
LAST-MODIFIED:20251020T142013Z
UID:10001194-1761393600-1761411600@www.burlingtonnj.us
SUMMARY:Burlington City Boardwalk Event
DESCRIPTION:
URL:https://www.burlingtonnj.us/event/burlington-city-boardwalk-event-2-2/
LOCATION:NJ
CATEGORIES:Activities,Community,Food/Drink,Live Music
ATTACH;FMTTYPE=image/png:https://www.burlingtonnj.us/wp-content/uploads/2025/04/Oct-Boardwalk.png
END:VEVENT
BEGIN:VEVENT
DTSTART;TZID=America/New_York:20251025T180000
DTEND;TZID=America/New_York:20251025T210000
DTSTAMP:20260425T133106
CREATED:20250501T162351Z
LAST-MODIFIED:20250922T200155Z
UID:10001606-1761415200-1761426000@www.burlingtonnj.us
SUMMARY:Walk With the Ghosts Tours
DESCRIPTION:
URL:https://www.burlingtonnj.us/event/walk-with-the-ghosts-tours/2025-10-25/
LOCATION:Burlington Riverfront Promenade\, 1 Pearl Boulevard\, Burlington\, NJ\, 08016\, United States
CATEGORIES:Activities,Community
ATTACH;FMTTYPE=image/jpeg:https://www.burlingtonnj.us/wp-content/uploads/2025/05/Ghost-Tour-Flyer-2025-Final-scaled.jpg
END:VEVENT
BEGIN:VEVENT
DTSTART;TZID=America/New_York:20251026T090000
DTEND;TZID=America/New_York:20251026T130000
DTSTAMP:20260425T133106
CREATED:20250501T161610Z
LAST-MODIFIED:20250501T161610Z
UID:10001605-1761469200-1761483600@www.burlingtonnj.us
SUMMARY:Carbs & Coffee
DESCRIPTION:
URL:https://www.burlingtonnj.us/event/carbs-coffee/2025-10-26/
LOCATION:Evermore Coffee\, 1 E Pearl St\, Suite A\, Burlington\, NJ\, 08016\, United States
CATEGORIES:Activities,Community,Food/Drink
ATTACH;FMTTYPE=image/jpeg:https://www.burlingtonnj.us/wp-content/uploads/2025/05/Evermore-Carbs-and-Coffee_8.5-x-11-Flyer-scaled.jpg
END:VEVENT
END:VCALENDAR