BEGIN:VCALENDAR
VERSION:2.0
PRODID:-//Burlington NJ - ECPv6.15.20//NONSGML v1.0//EN
CALSCALE:GREGORIAN
METHOD:PUBLISH
X-ORIGINAL-URL:https://www.burlingtonnj.us
X-WR-CALDESC:Events for Burlington NJ
REFRESH-INTERVAL;VALUE=DURATION:PT1H
X-Robots-Tag:noindex
X-PUBLISHED-TTL:PT1H
BEGIN:VTIMEZONE
TZID:America/New_York
BEGIN:DAYLIGHT
TZOFFSETFROM:-0500
TZOFFSETTO:-0400
TZNAME:EDT
DTSTART:20240310T070000
END:DAYLIGHT
BEGIN:STANDARD
TZOFFSETFROM:-0400
TZOFFSETTO:-0500
TZNAME:EST
DTSTART:20241103T060000
END:STANDARD
BEGIN:DAYLIGHT
TZOFFSETFROM:-0500
TZOFFSETTO:-0400
TZNAME:EDT
DTSTART:20250309T070000
END:DAYLIGHT
BEGIN:STANDARD
TZOFFSETFROM:-0400
TZOFFSETTO:-0500
TZNAME:EST
DTSTART:20251102T060000
END:STANDARD
BEGIN:DAYLIGHT
TZOFFSETFROM:-0500
TZOFFSETTO:-0400
TZNAME:EDT
DTSTART:20260308T070000
END:DAYLIGHT
BEGIN:STANDARD
TZOFFSETFROM:-0400
TZOFFSETTO:-0500
TZNAME:EST
DTSTART:20261101T060000
END:STANDARD
END:VTIMEZONE
BEGIN:VEVENT
DTSTART;TZID=America/New_York:20251101T100000
DTEND;TZID=America/New_York:20251101T140000
DTSTAMP:20260423T111132
CREATED:20251002T132109Z
LAST-MODIFIED:20251002T132109Z
UID:10001643-1761991200-1762005600@www.burlingtonnj.us
SUMMARY:Soccer Games
DESCRIPTION:
URL:https://www.burlingtonnj.us/event/soccer-games/2025-11-01/
LOCATION:NJ
CATEGORIES:Activities,Community
ATTACH;FMTTYPE=image/jpeg:https://www.burlingtonnj.us/wp-content/uploads/2025/10/Schedules_-2025-Season-Oct-Nov_Page_1.jpg
END:VEVENT
BEGIN:VEVENT
DTSTART;TZID=America/New_York:20251102T090000
DTEND;TZID=America/New_York:20251102T130000
DTSTAMP:20260423T111132
CREATED:20251007T203800Z
LAST-MODIFIED:20251007T203800Z
UID:10001655-1762074000-1762088400@www.burlingtonnj.us
SUMMARY:Fall 2025 Paper Shredding Event
DESCRIPTION:
URL:https://www.burlingtonnj.us/event/fall-2025-paper-shredding-event/
LOCATION:Burlington County Institute of Technology\, 695 Woodlane Road\, Westampton\, NJ\, 08060\, United States
CATEGORIES:Activities,Community
ATTACH;FMTTYPE=image/jpeg:https://www.burlingtonnj.us/wp-content/uploads/2025/10/Fall-2025-Shred-Event-scaled-e1759869409287.jpg
END:VEVENT
BEGIN:VEVENT
DTSTART;TZID=America/New_York:20251108T100000
DTEND;TZID=America/New_York:20251108T113000
DTSTAMP:20260423T111132
CREATED:20251016T140257Z
LAST-MODIFIED:20251016T140257Z
UID:10001657-1762596000-1762601400@www.burlingtonnj.us
SUMMARY:Food Bank at the Keegan Center
DESCRIPTION:
URL:https://www.burlingtonnj.us/event/food-bank-at-the-keegan-center-12/
LOCATION:Keegan Recreation Center\, 522 Wood Street\, Burlington City (Burlington County\, NJ)\, NJ\, 08016\, United States
CATEGORIES:Activities,Community
ATTACH;FMTTYPE=image/jpeg:https://www.burlingtonnj.us/wp-content/uploads/2025/10/Nov-Food-bank-2025--scaled.jpg
END:VEVENT
BEGIN:VEVENT
DTSTART;TZID=America/New_York:20251108T100000
DTEND;TZID=America/New_York:20251108T140000
DTSTAMP:20260423T111132
CREATED:20251002T132109Z
LAST-MODIFIED:20251002T132109Z
UID:10001644-1762596000-1762610400@www.burlingtonnj.us
SUMMARY:Soccer Games
DESCRIPTION:
URL:https://www.burlingtonnj.us/event/soccer-games/2025-11-08/
LOCATION:NJ
CATEGORIES:Activities,Community
ATTACH;FMTTYPE=image/jpeg:https://www.burlingtonnj.us/wp-content/uploads/2025/10/Schedules_-2025-Season-Oct-Nov_Page_1.jpg
END:VEVENT
BEGIN:VEVENT
DTSTART;TZID=America/New_York:20251111T100000
DTEND;TZID=America/New_York:20251111T100000
DTSTAMP:20260423T111132
CREATED:20251017T145753Z
LAST-MODIFIED:20251017T145854Z
UID:10001659-1762855200-1762855200@www.burlingtonnj.us
SUMMARY:Veteran's Day Parade & Ceremony
DESCRIPTION:
URL:https://www.burlingtonnj.us/event/veterans-day-parade-2/
LOCATION:High Street\, High Street\, Burlington\, NJ\, 08016\, United States
CATEGORIES:Activities,Community
ATTACH;FMTTYPE=image/png:https://www.burlingtonnj.us/wp-content/uploads/2025/10/Veterans-Day-Parade-1.png
END:VEVENT
BEGIN:VEVENT
DTSTART;TZID=America/New_York:20251114T100000
DTEND;TZID=America/New_York:20251114T120000
DTSTAMP:20260423T111132
CREATED:20250806T215932Z
LAST-MODIFIED:20250806T215932Z
UID:10001628-1763114400-1763121600@www.burlingtonnj.us
SUMMARY:Flu Shot Friday
DESCRIPTION:
URL:https://www.burlingtonnj.us/event/flu-shot-friday/
LOCATION:Keegan Recreation Center\, 522 Wood Street\, Burlington City (Burlington County\, NJ)\, NJ\, 08016\, United States
CATEGORIES:Activities,Community
ATTACH;FMTTYPE=image/jpeg:https://www.burlingtonnj.us/wp-content/uploads/2025/08/Burlington-City-Flu-Clinic-Flyer-2025.jpg
END:VEVENT
BEGIN:VEVENT
DTSTART;TZID=America/New_York:20251114T190000
DTEND;TZID=America/New_York:20251114T203000
DTSTAMP:20260423T111132
CREATED:20251007T204234Z
LAST-MODIFIED:20251007T204234Z
UID:10001656-1763146800-1763152200@www.burlingtonnj.us
SUMMARY:Burlington and Beyond: The Photography of Jan Griswold
DESCRIPTION:
URL:https://www.burlingtonnj.us/event/burlington-and-beyond-the-photography-of-jan-griswold/
LOCATION:H.T. Costello Lyceum Hall\, 432 High Street\, Burlington City (Burlington County\, NJ)\, NJ\, 08016\, United States
CATEGORIES:Activities,Community
ATTACH;FMTTYPE=image/png:https://www.burlingtonnj.us/wp-content/uploads/2025/10/Jan-flyer-7.png
END:VEVENT
BEGIN:VEVENT
DTSTART;TZID=America/New_York:20251115T100000
DTEND;TZID=America/New_York:20251115T140000
DTSTAMP:20260423T111132
CREATED:20251002T132109Z
LAST-MODIFIED:20251002T132109Z
UID:10001645-1763200800-1763215200@www.burlingtonnj.us
SUMMARY:Soccer Games
DESCRIPTION:
URL:https://www.burlingtonnj.us/event/soccer-games/2025-11-15/
LOCATION:NJ
CATEGORIES:Activities,Community
ATTACH;FMTTYPE=image/jpeg:https://www.burlingtonnj.us/wp-content/uploads/2025/10/Schedules_-2025-Season-Oct-Nov_Page_1.jpg
END:VEVENT
BEGIN:VEVENT
DTSTART;TZID=America/New_York:20251115T190000
DTEND;TZID=America/New_York:20251115T210000
DTSTAMP:20260423T111132
CREATED:20251006T205751Z
LAST-MODIFIED:20251006T205751Z
UID:10001654-1763233200-1763240400@www.burlingtonnj.us
SUMMARY:Ensemble Novo - Brazilian Jazz
DESCRIPTION:
URL:https://www.burlingtonnj.us/event/ensemble-novo-brazilian-jazz/
LOCATION:H.T. Costello Lyceum Hall\, 432 High Street\, Burlington City (Burlington County\, NJ)\, NJ\, 08016\, United States
CATEGORIES:Activities,Community,Live Music
ATTACH;FMTTYPE=image/png:https://www.burlingtonnj.us/wp-content/uploads/2025/10/Ensemble-Novo-flyer-7.png
END:VEVENT
BEGIN:VEVENT
DTSTART;TZID=America/New_York:20251122T140000
DTEND;TZID=America/New_York:20251122T160000
DTSTAMP:20260423T111132
CREATED:20251110T215339Z
LAST-MODIFIED:20251110T215339Z
UID:10001661-1763820000-1763827200@www.burlingtonnj.us
SUMMARY:Turkey Tales
DESCRIPTION:
URL:https://www.burlingtonnj.us/event/turkey-tales/
LOCATION:Burlington County Historical Society\, 457 High Street\, Burlington\, NJ\, 08016\, United States
CATEGORIES:Activities,Community
ATTACH;FMTTYPE=image/jpeg:https://www.burlingtonnj.us/wp-content/uploads/2025/11/Turkey-Tales.jpg
ORGANIZER;CN="Burlington County Historical Society":MAILTO:burlcohistsoc@verizon.net
END:VEVENT
BEGIN:VEVENT
DTSTART;TZID=America/New_York:20251122T140000
DTEND;TZID=America/New_York:20251122T180000
DTSTAMP:20260423T111132
CREATED:20251112T202824Z
LAST-MODIFIED:20251112T202824Z
UID:10001665-1763820000-1763834400@www.burlingtonnj.us
SUMMARY:Cruise for Kids Holiday Toy Drive
DESCRIPTION:
URL:https://www.burlingtonnj.us/event/cruise-for-kids-holiday-toy-drive/
LOCATION:Burlington Riverfront Promenade\, 1 Pearl Boulevard\, Burlington\, NJ\, 08016\, United States
CATEGORIES:Activities,Community
ATTACH;FMTTYPE=application/pdf:https://www.burlingtonnj.us/wp-content/uploads/2025/11/Cruise-for-Kids-Toy-Drive-Flyer-2025-1.pdf
END:VEVENT
END:VCALENDAR