BEGIN:VCALENDAR
VERSION:2.0
PRODID:-//Burlington NJ - ECPv6.15.20//NONSGML v1.0//EN
CALSCALE:GREGORIAN
METHOD:PUBLISH
X-ORIGINAL-URL:https://www.burlingtonnj.us
X-WR-CALDESC:Events for Burlington NJ
REFRESH-INTERVAL;VALUE=DURATION:PT1H
X-Robots-Tag:noindex
X-PUBLISHED-TTL:PT1H
BEGIN:VTIMEZONE
TZID:America/New_York
BEGIN:DAYLIGHT
TZOFFSETFROM:-0500
TZOFFSETTO:-0400
TZNAME:EDT
DTSTART:20240310T070000
END:DAYLIGHT
BEGIN:STANDARD
TZOFFSETFROM:-0400
TZOFFSETTO:-0500
TZNAME:EST
DTSTART:20241103T060000
END:STANDARD
BEGIN:DAYLIGHT
TZOFFSETFROM:-0500
TZOFFSETTO:-0400
TZNAME:EDT
DTSTART:20250309T070000
END:DAYLIGHT
BEGIN:STANDARD
TZOFFSETFROM:-0400
TZOFFSETTO:-0500
TZNAME:EST
DTSTART:20251102T060000
END:STANDARD
BEGIN:DAYLIGHT
TZOFFSETFROM:-0500
TZOFFSETTO:-0400
TZNAME:EDT
DTSTART:20260308T070000
END:DAYLIGHT
BEGIN:STANDARD
TZOFFSETFROM:-0400
TZOFFSETTO:-0500
TZNAME:EST
DTSTART:20261101T060000
END:STANDARD
BEGIN:DAYLIGHT
TZOFFSETFROM:-0500
TZOFFSETTO:-0400
TZNAME:EDT
DTSTART:20270314T070000
END:DAYLIGHT
BEGIN:STANDARD
TZOFFSETFROM:-0400
TZOFFSETTO:-0500
TZNAME:EST
DTSTART:20271107T060000
END:STANDARD
END:VTIMEZONE
BEGIN:VEVENT
DTSTART;TZID=America/New_York:20251213T140000
DTEND;TZID=America/New_York:20251213T180000
DTSTAMP:20260423T191011
CREATED:20251112T150944Z
LAST-MODIFIED:20251112T150944Z
UID:10001664-1765634400-1765648800@www.burlingtonnj.us
SUMMARY:Holiday Market
DESCRIPTION:
URL:https://www.burlingtonnj.us/event/holiday-market/
LOCATION:H.T. Costello Lyceum Hall\, 432 High Street\, Burlington City (Burlington County\, NJ)\, NJ\, 08016\, United States
CATEGORIES:Activities,Community
ATTACH;FMTTYPE=image/png:https://www.burlingtonnj.us/wp-content/uploads/2025/11/2025-Holiday-market-flyer.png
END:VEVENT
BEGIN:VEVENT
DTSTART;TZID=America/New_York:20251215T180000
DTEND;TZID=America/New_York:20251215T210000
DTSTAMP:20260423T191011
CREATED:20251202T161517Z
LAST-MODIFIED:20251202T161517Z
UID:10001668-1765821600-1765832400@www.burlingtonnj.us
SUMMARY:Revolutionary Trivia
DESCRIPTION:
URL:https://www.burlingtonnj.us/event/revolutionary-trivia/
LOCATION:Raccoon Pubhaus\, 352 High Street\, Burlington\, NJ\, 08016\, United States
CATEGORIES:Activities,Community
ATTACH;FMTTYPE=image/png:https://www.burlingtonnj.us/wp-content/uploads/2025/12/Revolutionary-War-Trivia-Final-2.png
ORGANIZER;CN="Burlington County Historical Society":MAILTO:burlcohistsoc@verizon.net
END:VEVENT
BEGIN:VEVENT
DTSTART;TZID=America/New_York:20251220T110000
DTEND;TZID=America/New_York:20251220T140000
DTSTAMP:20260423T191011
CREATED:20251216T162724Z
LAST-MODIFIED:20251216T162724Z
UID:10001671-1766228400-1766239200@www.burlingtonnj.us
SUMMARY:BCHS Holiday Market
DESCRIPTION:
URL:https://www.burlingtonnj.us/event/bchs-holiday-market/
LOCATION:Burlington City High School\, 100 Blue Devil\, Burlington\, NJ\, 08016\, United States
CATEGORIES:Activities,Community
ATTACH;FMTTYPE=application/pdf:https://www.burlingtonnj.us/wp-content/uploads/2025/12/BCHS-Holiday-Market-Flyer-12-20-25.pdf
END:VEVENT
BEGIN:VEVENT
DTSTART;TZID=America/New_York:20260110T100000
DTEND;TZID=America/New_York:20260110T113000
DTSTAMP:20260423T191011
CREATED:20251210T153114Z
LAST-MODIFIED:20251210T153114Z
UID:10001669-1768039200-1768044600@www.burlingtonnj.us
SUMMARY:Food Bank at the Keegan Center
DESCRIPTION:
URL:https://www.burlingtonnj.us/event/food-bank-at-the-keegan-center-14/
LOCATION:Keegan Recreation Center\, 522 Wood Street\, Burlington City (Burlington County\, NJ)\, NJ\, 08016\, United States
CATEGORIES:Activities,Community
ATTACH;FMTTYPE=image/jpeg:https://www.burlingtonnj.us/wp-content/uploads/2025/12/Jan-Food-bank-2026-1.jpeg
END:VEVENT
BEGIN:VEVENT
DTSTART;TZID=America/New_York:20260123T190000
DTEND;TZID=America/New_York:20260123T203000
DTSTAMP:20260423T191011
CREATED:20251211T162933Z
LAST-MODIFIED:20251211T162933Z
UID:10001670-1769194800-1769200200@www.burlingtonnj.us
SUMMARY:Pete Green African-American Memorabilia
DESCRIPTION:
URL:https://www.burlingtonnj.us/event/pete-green-african-american-memorabilia/
LOCATION:H.T. Costello Lyceum Hall\, 432 High Street\, Burlington City (Burlington County\, NJ)\, NJ\, 08016\, United States
CATEGORIES:Activities,Community
ATTACH;FMTTYPE=image/png:https://www.burlingtonnj.us/wp-content/uploads/2025/12/Pete-Green-flyer-Jan-2026.png
END:VEVENT
BEGIN:VEVENT
DTSTART;TZID=America/New_York:20260127T183000
DTEND;TZID=America/New_York:20260127T203000
DTSTAMP:20260423T191011
CREATED:20260116T153647Z
LAST-MODIFIED:20260116T153647Z
UID:10001748-1769538600-1769545800@www.burlingtonnj.us
SUMMARY:Community Meeting at The Dime
DESCRIPTION:
URL:https://www.burlingtonnj.us/event/community-meeting-at-the-dime/
LOCATION:The Dime\, 351 High Street\, 2nd Floor\, Burlington\, NJ\, 08016\, United States
CATEGORIES:Activities,Community
ATTACH;FMTTYPE=application/pdf:https://www.burlingtonnj.us/wp-content/uploads/2026/01/doc00803620260116093714.pdf
END:VEVENT
BEGIN:VEVENT
DTSTART;TZID=America/New_York:20260129T140000
DTEND;TZID=America/New_York:20260129T160000
DTSTAMP:20260423T191011
CREATED:20260109T151757Z
LAST-MODIFIED:20260109T151757Z
UID:10001747-1769695200-1769702400@www.burlingtonnj.us
SUMMARY:Green Acres Community Meeting
DESCRIPTION:
URL:https://www.burlingtonnj.us/event/green-acres-community-meeting/
LOCATION:City Hall\, 525 High Street\, Burlington\, NJ\, 08016\, United States
CATEGORIES:Activities,Community
ATTACH;FMTTYPE=application/pdf:https://www.burlingtonnj.us/wp-content/uploads/2026/01/Flyer-William-R.-Allen-School-Park-Green-Acres-Community-Meeting.pdf
END:VEVENT
BEGIN:VEVENT
DTSTART;TZID=America/New_York:20260204T120000
DTEND;TZID=America/New_York:20260204T140000
DTSTAMP:20260423T191011
CREATED:20260127T192700Z
LAST-MODIFIED:20260127T192700Z
UID:10001749-1770206400-1770213600@www.burlingtonnj.us
SUMMARY:The Occupation of Burlington
DESCRIPTION:
URL:https://www.burlingtonnj.us/event/the-occupation-of-burlington/
LOCATION:Burlington County Historical Society\, 457 High Street\, Burlington\, NJ\, 08016\, United States
CATEGORIES:Activities,Community
ATTACH;FMTTYPE=image/png:https://www.burlingtonnj.us/wp-content/uploads/2026/01/The-Occupation-of-Burlington-1-1.png
ORGANIZER;CN="Burlington County Historical Society":MAILTO:burlcohistsoc@verizon.net
END:VEVENT
BEGIN:VEVENT
DTSTART;TZID=America/New_York:20260206T083000
DTEND;TZID=America/New_York:20260206T143000
DTSTAMP:20260423T191011
CREATED:20260127T200415Z
LAST-MODIFIED:20260127T200415Z
UID:10001751-1770366600-1770388200@www.burlingtonnj.us
SUMMARY:Free Dental Services for Children
DESCRIPTION:
URL:https://www.burlingtonnj.us/event/free-dental-services-for-children/
LOCATION:RCBC Dental Hygiene Clinic\, 1000 Briggs Rd\, Mount Laurel\, NJ\, 08054\, United States
CATEGORIES:Community
ATTACH;FMTTYPE=image/jpeg:https://www.burlingtonnj.us/wp-content/uploads/2026/01/Dental-Services-1.jpg
END:VEVENT
BEGIN:VEVENT
DTSTART;TZID=America/New_York:20260207T120000
DTEND;TZID=America/New_York:20260207T140000
DTSTAMP:20260423T191011
CREATED:20260127T192921Z
LAST-MODIFIED:20260127T192921Z
UID:10001750-1770465600-1770472800@www.burlingtonnj.us
SUMMARY:The Philadelphia Campaign
DESCRIPTION:
URL:https://www.burlingtonnj.us/event/the-philadelphia-campaign/
LOCATION:Burlington County Historical Society\, 457 High Street\, Burlington\, NJ\, 08016\, United States
CATEGORIES:Activities,Community
ATTACH;FMTTYPE=image/png:https://www.burlingtonnj.us/wp-content/uploads/2026/01/The-Philadelphia-Campaign-1-1.png
ORGANIZER;CN="Burlington County Historical Society":MAILTO:burlcohistsoc@verizon.net
END:VEVENT
BEGIN:VEVENT
DTSTART;TZID=America/New_York:20260207T190000
DTEND;TZID=America/New_York:20260207T204500
DTSTAMP:20260423T191011
CREATED:20260107T154344Z
LAST-MODIFIED:20260107T154344Z
UID:10001734-1770490800-1770497100@www.burlingtonnj.us
SUMMARY:The V. Shayne Frederick Trio featuring vocalist Maya Belardo
DESCRIPTION:
URL:https://www.burlingtonnj.us/event/the-v-shayne-frederick-trio-featuring-vocalist-maya-belardo/
LOCATION:H.T. Costello Lyceum Hall\, 432 High Street\, Burlington City (Burlington County\, NJ)\, NJ\, 08016\, United States
CATEGORIES:Activities,Community,Live Music
ATTACH;FMTTYPE=image/jpeg:https://www.burlingtonnj.us/wp-content/uploads/2026/01/V.-Shayne-Frederick.jpg
END:VEVENT
BEGIN:VEVENT
DTSTART;TZID=America/New_York:20260306T190000
DTEND;TZID=America/New_York:20260306T203000
DTSTAMP:20260423T191011
CREATED:20260210T212823Z
LAST-MODIFIED:20260210T212823Z
UID:10001752-1772823600-1772829000@www.burlingtonnj.us
SUMMARY:Joe Hughes Watercolors
DESCRIPTION:
URL:https://www.burlingtonnj.us/event/joe-hughes-watercolors/
LOCATION:H.T. Costello Lyceum Hall\, 432 High Street\, Burlington City (Burlington County\, NJ)\, NJ\, 08016\, United States
CATEGORIES:Activities,Community
ATTACH;FMTTYPE=image/png:https://www.burlingtonnj.us/wp-content/uploads/2026/02/JOE-HUGHES-FLYER-3-1.png
END:VEVENT
BEGIN:VEVENT
DTSTART;TZID=America/New_York:20260306T190000
DTEND;TZID=America/New_York:20260306T203000
DTSTAMP:20260423T191011
CREATED:20260211T165317Z
LAST-MODIFIED:20260211T165317Z
UID:10001753-1772823600-1772829000@www.burlingtonnj.us
SUMMARY:Annie Jr.
DESCRIPTION:
URL:https://www.burlingtonnj.us/event/annie-jr/2026-03-06/
LOCATION:NJ
CATEGORIES:Activities,Community,Live Music
ATTACH;FMTTYPE=image/png:https://www.burlingtonnj.us/wp-content/uploads/2026/02/Screenshot-2026-02-10-at-9.22.15-AM.png
END:VEVENT
BEGIN:VEVENT
DTSTART;TZID=America/New_York:20260307T130000
DTEND;TZID=America/New_York:20260307T173000
DTSTAMP:20260423T191011
CREATED:20260211T165317Z
LAST-MODIFIED:20260211T165317Z
UID:10001754-1772888400-1772904600@www.burlingtonnj.us
SUMMARY:Annie Jr.
DESCRIPTION:
URL:https://www.burlingtonnj.us/event/annie-jr/2026-03-07/
LOCATION:NJ
CATEGORIES:Activities,Community,Live Music
ATTACH;FMTTYPE=image/png:https://www.burlingtonnj.us/wp-content/uploads/2026/02/Screenshot-2026-02-10-at-9.22.15-AM.png
END:VEVENT
BEGIN:VEVENT
DTSTART;TZID=America/New_York:20260308T130000
DTEND;TZID=America/New_York:20260308T143000
DTSTAMP:20260423T191011
CREATED:20260211T165317Z
LAST-MODIFIED:20260211T165317Z
UID:10001755-1772974800-1772980200@www.burlingtonnj.us
SUMMARY:Annie Jr.
DESCRIPTION:
URL:https://www.burlingtonnj.us/event/annie-jr/2026-03-08/
LOCATION:NJ
CATEGORIES:Activities,Community,Live Music
ATTACH;FMTTYPE=image/png:https://www.burlingtonnj.us/wp-content/uploads/2026/02/Screenshot-2026-02-10-at-9.22.15-AM.png
END:VEVENT
BEGIN:VEVENT
DTSTART;TZID=America/New_York:20260314T100000
DTEND;TZID=America/New_York:20260314T113000
DTSTAMP:20260423T191011
CREATED:20260217T151151Z
LAST-MODIFIED:20260217T151151Z
UID:10001756-1773482400-1773487800@www.burlingtonnj.us
SUMMARY:Food Bank at the Keegan Center
DESCRIPTION:
URL:https://www.burlingtonnj.us/event/food-bank-at-the-keegan-center-15/
LOCATION:Keegan Recreation Center\, 522 Wood Street\, Burlington City (Burlington County\, NJ)\, NJ\, 08016\, United States
CATEGORIES:Activities,Community
ATTACH;FMTTYPE=application/pdf:https://www.burlingtonnj.us/wp-content/uploads/2026/02/MAR-Food-bank-2026.pdf
END:VEVENT
BEGIN:VEVENT
DTSTART;TZID=America/New_York:20260328T140000
DTEND;TZID=America/New_York:20260328T160000
DTSTAMP:20260423T191011
CREATED:20260324T132437Z
LAST-MODIFIED:20260324T132437Z
UID:10001806-1774706400-1774713600@www.burlingtonnj.us
SUMMARY:The Right to Fight
DESCRIPTION:
URL:https://www.burlingtonnj.us/event/the-right-to-fight/
LOCATION:Burlington County Historical Society\, 457 High Street\, Burlington\, NJ\, 08016\, United States
CATEGORIES:Activities,Community
ATTACH;FMTTYPE=image/jpeg:https://www.burlingtonnj.us/wp-content/uploads/2026/03/1000012227.jpg
END:VEVENT
BEGIN:VEVENT
DTSTART;TZID=America/New_York:20260411T100000
DTEND;TZID=America/New_York:20260411T113000
DTSTAMP:20260423T191011
CREATED:20260310T200117Z
LAST-MODIFIED:20260310T200117Z
UID:10001799-1775901600-1775907000@www.burlingtonnj.us
SUMMARY:Food Bank at the Keegan Center
DESCRIPTION:
URL:https://www.burlingtonnj.us/event/food-bank-at-the-keegan-center-16/
LOCATION:Keegan Recreation Center\, 522 Wood Street\, Burlington City (Burlington County\, NJ)\, NJ\, 08016\, United States
CATEGORIES:Activities,Community
ATTACH;FMTTYPE=application/pdf:https://www.burlingtonnj.us/wp-content/uploads/2026/03/April-Food-bank-2026.pdf
END:VEVENT
BEGIN:VEVENT
DTSTART;TZID=America/New_York:20260417T193000
DTEND;TZID=America/New_York:20260417T210000
DTSTAMP:20260423T191011
CREATED:20260310T202138Z
LAST-MODIFIED:20260310T202138Z
UID:10001801-1776454200-1776459600@www.burlingtonnj.us
SUMMARY:The Great American Songbook
DESCRIPTION:
URL:https://www.burlingtonnj.us/event/the-great-american-songbook/2026-04-17/
LOCATION:Wilber Watts Intermediate School\, 550 High Street\, Burlington\, NJ\, 08016\, United States
CATEGORIES:Activities,Community,Live Music
ATTACH;FMTTYPE=image/jpeg:https://www.burlingtonnj.us/wp-content/uploads/2026/03/great-american-songbook20260118_13431711.jpg
ORGANIZER;CN="The Burlington Entertainers":MAILTO:info.burlingtonentertainers@gmail.com
END:VEVENT
BEGIN:VEVENT
DTSTART;TZID=America/New_York:20260418T090000
DTEND;TZID=America/New_York:20260418T130000
DTSTAMP:20260423T191011
CREATED:20260317T203300Z
LAST-MODIFIED:20260317T203300Z
UID:10001804-1776502800-1776517200@www.burlingtonnj.us
SUMMARY:Earth Day
DESCRIPTION:
URL:https://www.burlingtonnj.us/event/earth-day/
LOCATION:Burlington Riverfront Promenade\, 1 Pearl Boulevard\, Burlington\, NJ\, 08016\, United States
CATEGORIES:Activities,Community,Food/Drink,Live Music
ATTACH;FMTTYPE=image/png:https://www.burlingtonnj.us/wp-content/uploads/2026/03/Earth-Day-2026-scaled.png
END:VEVENT
BEGIN:VEVENT
DTSTART;TZID=America/New_York:20260418T120000
DTEND;TZID=America/New_York:20260418T170000
DTSTAMP:20260423T191011
CREATED:20260310T201316Z
LAST-MODIFIED:20260310T201316Z
UID:10001800-1776513600-1776531600@www.burlingtonnj.us
SUMMARY:4th Annual Kids' Arts Bash
DESCRIPTION:
URL:https://www.burlingtonnj.us/event/4th-annual-kids-arts-bash/
LOCATION:High Street\, High Street\, Burlington\, NJ\, 08016\, United States
CATEGORIES:Activities,Community
ATTACH;FMTTYPE=image/png:https://www.burlingtonnj.us/wp-content/uploads/2026/03/Kids-Arts-Bash.png
ORGANIZER;CN="Burlington County Historical Society":MAILTO:burlcohistsoc@verizon.net
END:VEVENT
BEGIN:VEVENT
DTSTART;TZID=America/New_York:20260418T193000
DTEND;TZID=America/New_York:20260418T210000
DTSTAMP:20260423T191011
CREATED:20260310T202138Z
LAST-MODIFIED:20260310T202138Z
UID:10001802-1776540600-1776546000@www.burlingtonnj.us
SUMMARY:The Great American Songbook
DESCRIPTION:
URL:https://www.burlingtonnj.us/event/the-great-american-songbook/2026-04-18/
LOCATION:Wilber Watts Intermediate School\, 550 High Street\, Burlington\, NJ\, 08016\, United States
CATEGORIES:Activities,Community,Live Music
ATTACH;FMTTYPE=image/jpeg:https://www.burlingtonnj.us/wp-content/uploads/2026/03/great-american-songbook20260118_13431711.jpg
ORGANIZER;CN="The Burlington Entertainers":MAILTO:info.burlingtonentertainers@gmail.com
END:VEVENT
BEGIN:VEVENT
DTSTART;TZID=America/New_York:20260419T140000
DTEND;TZID=America/New_York:20260419T153000
DTSTAMP:20260423T191011
CREATED:20260310T202138Z
LAST-MODIFIED:20260310T202138Z
UID:10001803-1776607200-1776612600@www.burlingtonnj.us
SUMMARY:The Great American Songbook
DESCRIPTION:
URL:https://www.burlingtonnj.us/event/the-great-american-songbook/2026-04-19/
LOCATION:Wilber Watts Intermediate School\, 550 High Street\, Burlington\, NJ\, 08016\, United States
CATEGORIES:Activities,Community,Live Music
ATTACH;FMTTYPE=image/jpeg:https://www.burlingtonnj.us/wp-content/uploads/2026/03/great-american-songbook20260118_13431711.jpg
ORGANIZER;CN="The Burlington Entertainers":MAILTO:info.burlingtonentertainers@gmail.com
END:VEVENT
BEGIN:VEVENT
DTSTART;TZID=America/New_York:20260502T110000
DTEND;TZID=America/New_York:20260502T150000
DTSTAMP:20260423T191011
CREATED:20260323T182842Z
LAST-MODIFIED:20260323T182842Z
UID:10001805-1777719600-1777734000@www.burlingtonnj.us
SUMMARY:Women Uplifting Women
DESCRIPTION:
URL:https://www.burlingtonnj.us/event/women-uplifting-women/
LOCATION:H.T. Costello Lyceum Hall\, 432 High Street\, Burlington City (Burlington County\, NJ)\, NJ\, 08016\, United States
CATEGORIES:Community,Food/Drink
ATTACH;FMTTYPE=image/png:https://www.burlingtonnj.us/wp-content/uploads/2026/03/women-empower.png
END:VEVENT
BEGIN:VEVENT
DTSTART;TZID=America/New_York:20260502T190000
DTEND;TZID=America/New_York:20260502T203000
DTSTAMP:20260423T191011
CREATED:20260417T182408Z
LAST-MODIFIED:20260417T182408Z
UID:10001814-1777748400-1777753800@www.burlingtonnj.us
SUMMARY:Angela Auletta Art Exhibition
DESCRIPTION:
URL:https://www.burlingtonnj.us/event/angela-auletta-art-exhibition/
LOCATION:H.T. Costello Lyceum Hall\, 432 High Street\, Burlington City (Burlington County\, NJ)\, NJ\, 08016\, United States
CATEGORIES:Activities,Community
ATTACH;FMTTYPE=image/webp:https://www.burlingtonnj.us/wp-content/uploads/2026/04/angela-5-flyer-1.webp
END:VEVENT
BEGIN:VEVENT
DTSTART;TZID=America/New_York:20260503T150000
DTEND;TZID=America/New_York:20260503T163000
DTSTAMP:20260423T191011
CREATED:20260417T181959Z
LAST-MODIFIED:20260417T181959Z
UID:10001813-1777820400-1777825800@www.burlingtonnj.us
SUMMARY:Woodstock with Plush Band
DESCRIPTION:
URL:https://www.burlingtonnj.us/event/woodstock-with-plush-band/
LOCATION:H.T. Costello Lyceum Hall\, 432 High Street\, Burlington City (Burlington County\, NJ)\, NJ\, 08016\, United States
CATEGORIES:Activities,Community,Live Music
ATTACH;FMTTYPE=image/webp:https://www.burlingtonnj.us/wp-content/uploads/2026/04/Woodstock-w-Plush-6.webp
END:VEVENT
BEGIN:VEVENT
DTSTART;TZID=America/New_York:20260516T130000
DTEND;TZID=America/New_York:20260516T160000
DTSTAMP:20260423T191011
CREATED:20260416T204251Z
LAST-MODIFIED:20260416T204251Z
UID:10001812-1778936400-1778947200@www.burlingtonnj.us
SUMMARY:Faith\, Friendship & Freedom
DESCRIPTION:
URL:https://www.burlingtonnj.us/event/faith-friendship-freedom/
LOCATION:Burlington Quaker Meeting House\, 340 High Street\, Burlington\, NJ\, 08016\, United States
CATEGORIES:Activities,Community
ATTACH;FMTTYPE=application/pdf:https://www.burlingtonnj.us/wp-content/uploads/2026/04/FAITH-FRIENDSHIP-FREEDOM-Flyer_APPROVED-witheventbrite.pdf
END:VEVENT
BEGIN:VEVENT
DTSTART;TZID=America/New_York:20260525T093000
DTEND;TZID=America/New_York:20260525T103000
DTSTAMP:20260423T191011
CREATED:20260423T193551Z
LAST-MODIFIED:20260423T193551Z
UID:10001815-1779701400-1779705000@www.burlingtonnj.us
SUMMARY:Memorial Day Parade
DESCRIPTION:
URL:https://www.burlingtonnj.us/event/memorial-day-parade-2/
LOCATION:City Hall\, 525 High Street\, Burlington\, NJ\, 08016\, United States
CATEGORIES:Activities,Community
ATTACH;FMTTYPE=image/webp:https://www.burlingtonnj.us/wp-content/uploads/2026/04/Memorial-Day-2026.webp
END:VEVENT
BEGIN:VEVENT
DTSTART;TZID=America/New_York:20260618T170000
DTEND;TZID=America/New_York:20260618T200000
DTSTAMP:20260423T191011
CREATED:20260402T210744Z
LAST-MODIFIED:20260402T210744Z
UID:10001808-1781802000-1781812800@www.burlingtonnj.us
SUMMARY:Cruise Nights
DESCRIPTION:
URL:https://www.burlingtonnj.us/event/cruise-nights/2026-06-18/
LOCATION:Burlington Riverfront Promenade\, 1 Pearl Boulevard\, Burlington\, NJ\, 08016\, United States
CATEGORIES:Activities,Community,Food/Drink,Live Music
ATTACH;FMTTYPE=image/jpeg:https://www.burlingtonnj.us/wp-content/uploads/2026/04/Cruise-Night-Concert-Flyer-2026.jpg
END:VEVENT
BEGIN:VEVENT
DTSTART;TZID=America/New_York:20260624T090000
DTEND;TZID=America/New_York:20260624T150000
DTSTAMP:20260423T191011
CREATED:20260303T145851Z
LAST-MODIFIED:20260303T145851Z
UID:10001798-1782291600-1782313200@www.burlingtonnj.us
SUMMARY:AARP SmartDriver Course
DESCRIPTION:
URL:https://www.burlingtonnj.us/event/aarp-smartdriver-course/
LOCATION:Keegan Recreation Center\, 522 Wood Street\, Burlington City (Burlington County\, NJ)\, NJ\, 08016\, United States
CATEGORIES:Community,Workshops
ATTACH;FMTTYPE=image/jpeg:https://www.burlingtonnj.us/wp-content/uploads/2026/03/AARP-Driving-Course.jpg
END:VEVENT
END:VCALENDAR