BEGIN:VCALENDAR
VERSION:2.0
PRODID:-//Burlington NJ - ECPv6.15.20//NONSGML v1.0//EN
CALSCALE:GREGORIAN
METHOD:PUBLISH
X-ORIGINAL-URL:https://www.burlingtonnj.us
X-WR-CALDESC:Events for Burlington NJ
REFRESH-INTERVAL;VALUE=DURATION:PT1H
X-Robots-Tag:noindex
X-PUBLISHED-TTL:PT1H
BEGIN:VTIMEZONE
TZID:America/New_York
BEGIN:DAYLIGHT
TZOFFSETFROM:-0500
TZOFFSETTO:-0400
TZNAME:EDT
DTSTART:20230312T070000
END:DAYLIGHT
BEGIN:STANDARD
TZOFFSETFROM:-0400
TZOFFSETTO:-0500
TZNAME:EST
DTSTART:20231105T060000
END:STANDARD
BEGIN:DAYLIGHT
TZOFFSETFROM:-0500
TZOFFSETTO:-0400
TZNAME:EDT
DTSTART:20240310T070000
END:DAYLIGHT
BEGIN:STANDARD
TZOFFSETFROM:-0400
TZOFFSETTO:-0500
TZNAME:EST
DTSTART:20241103T060000
END:STANDARD
BEGIN:DAYLIGHT
TZOFFSETFROM:-0500
TZOFFSETTO:-0400
TZNAME:EDT
DTSTART:20250309T070000
END:DAYLIGHT
BEGIN:STANDARD
TZOFFSETFROM:-0400
TZOFFSETTO:-0500
TZNAME:EST
DTSTART:20251102T060000
END:STANDARD
END:VTIMEZONE
BEGIN:VEVENT
DTSTART;TZID=America/New_York:20240610T180000
DTEND;TZID=America/New_York:20240610T200000
DTSTAMP:20260423T105740
CREATED:20240417T224823Z
LAST-MODIFIED:20260302T151559Z
UID:10000763-1718042400-1718049600@www.burlingtonnj.us
SUMMARY:Board of Education Meeting
DESCRIPTION:The Board of Education of the City of Burlington Public School District of the County of Burlington and the State of New Jersey hereby designates its monthly meetings as outlined below\, and unless otherwise modified by Resolution of this body or indicated below\, such meetings shall commence at 6:00 PM. The Board of Education may begin each meeting with a work session and/or executive session meeting. Meetings shall be held in the Wilbur Watts Intermediate School Large Group Instruction Room\, 550 High Street\, Burlington\, NJ 08016. The Agenda is available via a link posted on the district’s website www.burlington-nj.net. \nAppropriate notice shall be given in the event of any changes to the time or format of these regularly scheduled meetings. A copy of all notices of special meetings of the Board of Education shall\, at least forty-eight (48) hours in advance of said meeting\, be sent to the Burlington County Times\, filed with the Clerk of the City of Burlington\, and posted at the following locations:\nOn District Web-Site\nBulletin Board located at 518 Locust Ave.\, Burlington\, NJ\nBulletin Board located at 550 High St.\, Burlington\, NJ
URL:https://www.burlingtonnj.us/event/board-of-education-meeting/2024-06-10/
LOCATION:Wilber Watts Intermediate School\, 550 High Street\, Burlington\, NJ\, 08016\, United States
CATEGORIES:Board of Education
END:VEVENT
BEGIN:VEVENT
DTSTART;TZID=America/New_York:20240611T160000
DTEND;TZID=America/New_York:20240611T213000
DTSTAMP:20260423T105740
CREATED:20240417T183627Z
LAST-MODIFIED:20240823T171015Z
UID:10000009-1718121600-1718141400@www.burlingtonnj.us
SUMMARY:Farmers Market/Food Truck Tuesdays
DESCRIPTION:Time to add a “WEEKLY REMINDER” on your calendar! Pet-friendly Food Truck Tuesdays 4PM until dusk from May 7 until August 27 on the waterfront in Burlington City. Season 3 brings even more variety of trucks and live music! Burlington’s own “Acoustic Explorer” provides the grand opening entertainment this year! BYOB to the designated “open container” area permitted only during this time per the City’s ordinance No. 03-2024. Looking forward to seeing you back and welcoming new faces!
URL:https://www.burlingtonnj.us/event/farmers-market-food-truck-tuesdays/2024-06-11/
LOCATION:Hope Firehouse\, 110 High Street\, Burlington\, NJ\, 08016\, United States
CATEGORIES:Community,Food/Drink
ATTACH;FMTTYPE=application/pdf:https://www.burlingtonnj.us/wp-content/uploads/2024/04/8-27-24-Food-Truck.pdf
END:VEVENT
BEGIN:VEVENT
DTSTART;TZID=America/New_York:20240611T190000
DTEND;TZID=America/New_York:20240611T210000
DTSTAMP:20260423T105740
CREATED:20240417T221053Z
LAST-MODIFIED:20240501T132932Z
UID:10000833-1718132400-1718139600@www.burlingtonnj.us
SUMMARY:Common Council Meeting
DESCRIPTION:Meetings are held every 1st and 3rd Tuesday of the month\, except in August\, November\, and December.
URL:https://www.burlingtonnj.us/event/common-council-meeting/2024-06-11/
LOCATION:City Hall\, 525 High Street\, Burlington\, NJ\, 08016\, United States
CATEGORIES:Common Council
END:VEVENT
BEGIN:VEVENT
DTSTART;TZID=America/New_York:20240614T190000
DTEND;TZID=America/New_York:20240614T210000
DTSTAMP:20260423T105740
CREATED:20240612T165000Z
LAST-MODIFIED:20240612T165215Z
UID:10000840-1718391600-1718398800@www.burlingtonnj.us
SUMMARY:Burlington County Film Festival
DESCRIPTION:FilmFestPosterFri 2024
URL:https://www.burlingtonnj.us/event/burlington-county-film-festival/
LOCATION:H.T. Costello Lyceum Hall\, 432 High Street\, Burlington City (Burlington County\, NJ)\, NJ\, 08016\, United States
END:VEVENT
BEGIN:VEVENT
DTSTART;TZID=America/New_York:20240614T190000
DTEND;TZID=America/New_York:20240614T210000
DTSTAMP:20260423T105740
CREATED:20240612T165907Z
LAST-MODIFIED:20240612T165907Z
UID:10000841-1718391600-1718398800@www.burlingtonnj.us
SUMMARY:Burlington County Film Festival
DESCRIPTION:Burlington County Film Festival 2024
URL:https://www.burlingtonnj.us/event/burlington-county-film-festival-2/
LOCATION:H.T. Costello Lyceum Hall\, 432 High Street\, Burlington City (Burlington County\, NJ)\, NJ\, 08016\, United States
CATEGORIES:Community
END:VEVENT
BEGIN:VEVENT
DTSTART;VALUE=DATE:20240615
DTEND;VALUE=DATE:20240616
DTSTAMP:20260423T105740
CREATED:20240417T191925Z
LAST-MODIFIED:20240429T140816Z
UID:10000268-1718409600-1718495999@www.burlingtonnj.us
SUMMARY:Freedom Day/Juneteenth
DESCRIPTION:
URL:https://www.burlingtonnj.us/event/freedom-day-juneteenth/
LOCATION:NJ
CATEGORIES:Community
END:VEVENT
BEGIN:VEVENT
DTSTART;TZID=America/New_York:20240615T140000
DTEND;TZID=America/New_York:20240615T190000
DTSTAMP:20260423T105740
CREATED:20240607T175236Z
LAST-MODIFIED:20240607T175855Z
UID:10000839-1718460000-1718478000@www.burlingtonnj.us
SUMMARY:Burlington Freedom Day 2024 | A Juneteenth Celebration!
DESCRIPTION:CHAI and Community Deverlopment Corporation Presents: \nBurlington Freedom Day 2024 | A Juneteenth Celebration!\nHonoring our \nFreedom to Gather!  | Saturday\, June 15th 2 to 7 pm\nPraise on the Promenade! Celebrating our Legacy of Hope & Faith* – Sunday\, June 16th 2 to 7pm \n*Come and enjoy live music\, spoken work\, great food\, vendors of all sort\, family friendly fun\, and our Kids Zone with FREE lunch for the kids on Saturday! \nFor more information or vending\, call Trina @ 609.336.6202 \n\n    \n    \n            \n            \n        \n    \n\n    \n                        Chai Pantry Flyer 5-24-24\n        \n                    File size: 330.60 KB\n                    Created: 07-06-2024\n                    Updated: 07-06-2024\n                    Hits: 257\n        \n    \n    \n                                \n                    \n                    Download\n                \n                    \n                        \n                        Preview
URL:https://www.burlingtonnj.us/event/burlington-freedom-day-2024-a-juneteenth-celebration/2024-06-15/
LOCATION:Burlington Riverfront Promenade\, 1 Pearl Boulevard\, Burlington\, NJ\, 08016\, United States
CATEGORIES:Activities,Community
ATTACH;FMTTYPE=image/jpeg:https://www.burlingtonnj.us/wp-content/uploads/2024/06/events-june-2024-freedom-day.jpg
END:VEVENT
BEGIN:VEVENT
DTSTART;TZID=America/New_York:20240616T140000
DTEND;TZID=America/New_York:20240616T190000
DTSTAMP:20260423T105740
CREATED:20240607T175236Z
LAST-MODIFIED:20240607T175855Z
UID:10000837-1718546400-1718564400@www.burlingtonnj.us
SUMMARY:Burlington Freedom Day 2024 | A Juneteenth Celebration!
DESCRIPTION:CHAI and Community Deverlopment Corporation Presents: \nBurlington Freedom Day 2024 | A Juneteenth Celebration!\nHonoring our \nFreedom to Gather!  | Saturday\, June 15th 2 to 7 pm\nPraise on the Promenade! Celebrating our Legacy of Hope & Faith* – Sunday\, June 16th 2 to 7pm \n*Come and enjoy live music\, spoken work\, great food\, vendors of all sort\, family friendly fun\, and our Kids Zone with FREE lunch for the kids on Saturday! \nFor more information or vending\, call Trina @ 609.336.6202 \n\n    \n    \n            \n            \n        \n    \n\n    \n                        Chai Pantry Flyer 5-24-24\n        \n                    File size: 330.60 KB\n                    Created: 07-06-2024\n                    Updated: 07-06-2024\n                    Hits: 257\n        \n    \n    \n                                \n                    \n                    Download\n                \n                    \n                        \n                        Preview
URL:https://www.burlingtonnj.us/event/burlington-freedom-day-2024-a-juneteenth-celebration/2024-06-16/
LOCATION:Burlington Riverfront Promenade\, 1 Pearl Boulevard\, Burlington\, NJ\, 08016\, United States
CATEGORIES:Activities,Community
ATTACH;FMTTYPE=image/jpeg:https://www.burlingtonnj.us/wp-content/uploads/2024/06/events-june-2024-freedom-day.jpg
END:VEVENT
END:VCALENDAR