BEGIN:VCALENDAR
VERSION:2.0
PRODID:-//Burlington NJ - ECPv6.15.20//NONSGML v1.0//EN
CALSCALE:GREGORIAN
METHOD:PUBLISH
X-ORIGINAL-URL:https://www.burlingtonnj.us
X-WR-CALDESC:Events for Burlington NJ
REFRESH-INTERVAL;VALUE=DURATION:PT1H
X-Robots-Tag:noindex
X-PUBLISHED-TTL:PT1H
BEGIN:VTIMEZONE
TZID:America/New_York
BEGIN:DAYLIGHT
TZOFFSETFROM:-0500
TZOFFSETTO:-0400
TZNAME:EDT
DTSTART:20230312T070000
END:DAYLIGHT
BEGIN:STANDARD
TZOFFSETFROM:-0400
TZOFFSETTO:-0500
TZNAME:EST
DTSTART:20231105T060000
END:STANDARD
BEGIN:DAYLIGHT
TZOFFSETFROM:-0500
TZOFFSETTO:-0400
TZNAME:EDT
DTSTART:20240310T070000
END:DAYLIGHT
BEGIN:STANDARD
TZOFFSETFROM:-0400
TZOFFSETTO:-0500
TZNAME:EST
DTSTART:20241103T060000
END:STANDARD
BEGIN:DAYLIGHT
TZOFFSETFROM:-0500
TZOFFSETTO:-0400
TZNAME:EDT
DTSTART:20250309T070000
END:DAYLIGHT
BEGIN:STANDARD
TZOFFSETFROM:-0400
TZOFFSETTO:-0500
TZNAME:EST
DTSTART:20251102T060000
END:STANDARD
END:VTIMEZONE
BEGIN:VEVENT
DTSTART;TZID=America/New_York:20240813T160000
DTEND;TZID=America/New_York:20240813T213000
DTSTAMP:20260423T090743
CREATED:20240417T183627Z
LAST-MODIFIED:20240823T171015Z
UID:10000018-1723564800-1723584600@www.burlingtonnj.us
SUMMARY:Farmers Market/Food Truck Tuesdays
DESCRIPTION:Time to add a “WEEKLY REMINDER” on your calendar! Pet-friendly Food Truck Tuesdays 4PM until dusk from May 7 until August 27 on the waterfront in Burlington City. Season 3 brings even more variety of trucks and live music! Burlington’s own “Acoustic Explorer” provides the grand opening entertainment this year! BYOB to the designated “open container” area permitted only during this time per the City’s ordinance No. 03-2024. Looking forward to seeing you back and welcoming new faces!
URL:https://www.burlingtonnj.us/event/farmers-market-food-truck-tuesdays/2024-08-13/
LOCATION:Hope Firehouse\, 110 High Street\, Burlington\, NJ\, 08016\, United States
CATEGORIES:Community,Food/Drink
ATTACH;FMTTYPE=application/pdf:https://www.burlingtonnj.us/wp-content/uploads/2024/04/8-27-24-Food-Truck.pdf
END:VEVENT
BEGIN:VEVENT
DTSTART;TZID=America/New_York:20240813T190000
DTEND;TZID=America/New_York:20240813T210000
DTSTAMP:20260423T090743
CREATED:20240703T185638Z
LAST-MODIFIED:20260302T151957Z
UID:10001710-1723575600-1723582800@www.burlingtonnj.us
SUMMARY:Common Council (Work Session)
DESCRIPTION:
URL:https://www.burlingtonnj.us/event/common-council-work-session/2024-08-13/
LOCATION:City Hall\, 525 High Street\, Burlington\, NJ\, 08016\, United States
CATEGORIES:Common Council,Meetings
END:VEVENT
BEGIN:VEVENT
DTSTART;TZID=America/New_York:20240815T140000
DTEND;TZID=America/New_York:20240815T190000
DTSTAMP:20260423T090743
CREATED:20240809T161529Z
LAST-MODIFIED:20240809T161529Z
UID:10000859-1723730400-1723748400@www.burlingtonnj.us
SUMMARY:Blood Drive
DESCRIPTION:
URL:https://www.burlingtonnj.us/event/blood-drive/
LOCATION:Knights of Columbus\, 366 E. Broad Street\, Burlington\, NJ\, 08016\, United States
CATEGORIES:Community
ATTACH;FMTTYPE=application/pdf:https://www.burlingtonnj.us/wp-content/uploads/2024/08/blood-drive-8-15-24-06-Aug-2024-12-46-59-002-1.pdf
END:VEVENT
BEGIN:VEVENT
DTSTART;TZID=America/New_York:20240815T180000
DTEND;TZID=America/New_York:20240815T200000
DTSTAMP:20260423T090743
CREATED:20240417T191354Z
LAST-MODIFIED:20240429T140816Z
UID:10000270-1723744800-1723752000@www.burlingtonnj.us
SUMMARY:K-9 Cruise Night & Summer Concert
DESCRIPTION:
URL:https://www.burlingtonnj.us/event/k-9-cruise-night-summer-concert/2024-08-15/
LOCATION:NJ
CATEGORIES:Activities,Community,Live Music
ATTACH;FMTTYPE=image/jpeg:https://www.burlingtonnj.us/wp-content/uploads/2024/04/K-9-Cruise-Night-Summer-Concert-flyer.jpg
END:VEVENT
BEGIN:VEVENT
DTSTART;TZID=America/New_York:20240817T100000
DTEND;TZID=America/New_York:20240817T130000
DTSTAMP:20260423T090743
CREATED:20240814T175523Z
LAST-MODIFIED:20240814T175552Z
UID:10000861-1723888800-1723899600@www.burlingtonnj.us
SUMMARY:Back-To-School Supplies Community Fair
DESCRIPTION:
URL:https://www.burlingtonnj.us/event/back-to-school-supplies-community-fair/
LOCATION:Saint Paul UMC\, Mount Holly NJ\, 244 Washington Street\, Mount Holly\, NJ\, 08060\, United States
CATEGORIES:Community
ATTACH;FMTTYPE=application/pdf:https://www.burlingtonnj.us/wp-content/uploads/2024/08/community-fair-Flyer-Aug.-17.-2024-1-1.pdf
END:VEVENT
END:VCALENDAR