BEGIN:VCALENDAR
VERSION:2.0
PRODID:-//Burlington NJ - ECPv6.15.20//NONSGML v1.0//EN
CALSCALE:GREGORIAN
METHOD:PUBLISH
X-ORIGINAL-URL:https://www.burlingtonnj.us
X-WR-CALDESC:Events for Burlington NJ
REFRESH-INTERVAL;VALUE=DURATION:PT1H
X-Robots-Tag:noindex
X-PUBLISHED-TTL:PT1H
BEGIN:VTIMEZONE
TZID:America/New_York
BEGIN:DAYLIGHT
TZOFFSETFROM:-0500
TZOFFSETTO:-0400
TZNAME:EDT
DTSTART:20230312T070000
END:DAYLIGHT
BEGIN:STANDARD
TZOFFSETFROM:-0400
TZOFFSETTO:-0500
TZNAME:EST
DTSTART:20231105T060000
END:STANDARD
BEGIN:DAYLIGHT
TZOFFSETFROM:-0500
TZOFFSETTO:-0400
TZNAME:EDT
DTSTART:20240310T070000
END:DAYLIGHT
BEGIN:STANDARD
TZOFFSETFROM:-0400
TZOFFSETTO:-0500
TZNAME:EST
DTSTART:20241103T060000
END:STANDARD
BEGIN:DAYLIGHT
TZOFFSETFROM:-0500
TZOFFSETTO:-0400
TZNAME:EDT
DTSTART:20250309T070000
END:DAYLIGHT
BEGIN:STANDARD
TZOFFSETFROM:-0400
TZOFFSETTO:-0500
TZNAME:EST
DTSTART:20251102T060000
END:STANDARD
END:VTIMEZONE
BEGIN:VEVENT
DTSTART;TZID=America/New_York:20240916T180000
DTEND;TZID=America/New_York:20240916T200000
DTSTAMP:20260422T174831
CREATED:20240417T224823Z
LAST-MODIFIED:20260302T151559Z
UID:10000766-1726509600-1726516800@www.burlingtonnj.us
SUMMARY:Board of Education Meeting
DESCRIPTION:The Board of Education of the City of Burlington Public School District of the County of Burlington and the State of New Jersey hereby designates its monthly meetings as outlined below\, and unless otherwise modified by Resolution of this body or indicated below\, such meetings shall commence at 6:00 PM. The Board of Education may begin each meeting with a work session and/or executive session meeting. Meetings shall be held in the Wilbur Watts Intermediate School Large Group Instruction Room\, 550 High Street\, Burlington\, NJ 08016. The Agenda is available via a link posted on the district’s website www.burlington-nj.net. \nAppropriate notice shall be given in the event of any changes to the time or format of these regularly scheduled meetings. A copy of all notices of special meetings of the Board of Education shall\, at least forty-eight (48) hours in advance of said meeting\, be sent to the Burlington County Times\, filed with the Clerk of the City of Burlington\, and posted at the following locations:\nOn District Web-Site\nBulletin Board located at 518 Locust Ave.\, Burlington\, NJ\nBulletin Board located at 550 High St.\, Burlington\, NJ
URL:https://www.burlingtonnj.us/event/board-of-education-meeting/2024-09-16/
LOCATION:Wilber Watts Intermediate School\, 550 High Street\, Burlington\, NJ\, 08016\, United States
CATEGORIES:Board of Education
END:VEVENT
BEGIN:VEVENT
DTSTART;TZID=America/New_York:20240917T190000
DTEND;TZID=America/New_York:20240917T210000
DTSTAMP:20260422T174831
CREATED:20240417T221410Z
LAST-MODIFIED:20240501T130737Z
UID:10000409-1726599600-1726606800@www.burlingtonnj.us
SUMMARY:Common Council Meeting
DESCRIPTION:Meetings are held every 1st and 3rd Tuesday of the month\, except in August\, November\, and December.
URL:https://www.burlingtonnj.us/event/common-council-meeting-2/2024-09-17/
LOCATION:City Hall\, 525 High Street\, Burlington\, NJ\, 08016\, United States
CATEGORIES:Common Council
END:VEVENT
BEGIN:VEVENT
DTSTART;TZID=America/New_York:20240919T180000
DTEND;TZID=America/New_York:20240919T200000
DTSTAMP:20260422T174831
CREATED:20240417T191354Z
LAST-MODIFIED:20240429T140816Z
UID:10000271-1726768800-1726776000@www.burlingtonnj.us
SUMMARY:K-9 Cruise Night & Summer Concert
DESCRIPTION:
URL:https://www.burlingtonnj.us/event/k-9-cruise-night-summer-concert/2024-09-19/
LOCATION:NJ
CATEGORIES:Activities,Community,Live Music
ATTACH;FMTTYPE=image/jpeg:https://www.burlingtonnj.us/wp-content/uploads/2024/04/K-9-Cruise-Night-Summer-Concert-flyer.jpg
END:VEVENT
BEGIN:VEVENT
DTSTART;TZID=America/New_York:20240920T120000
DTEND;TZID=America/New_York:20240920T140000
DTSTAMP:20260422T174831
CREATED:20240920T154051Z
LAST-MODIFIED:20240920T154246Z
UID:10000901-1726833600-1726840800@www.burlingtonnj.us
SUMMARY:Crochet Fridays with Robin
DESCRIPTION:
URL:https://www.burlingtonnj.us/event/crochet-fridays-with-robin/2024-09-20/
LOCATION:Keegan Recreation Center\, 522 Wood Street\, Burlington City (Burlington County\, NJ)\, NJ\, 08016\, United States
CATEGORIES:Activities,Community,Workshops
ATTACH;FMTTYPE=image/png:https://www.burlingtonnj.us/wp-content/uploads/2024/09/Senior-Crochet-Class-1.png
END:VEVENT
BEGIN:VEVENT
DTSTART;TZID=America/New_York:20240921T040000
DTEND;TZID=America/New_York:20240921T080000
DTSTAMP:20260422T174831
CREATED:20240417T195257Z
LAST-MODIFIED:20240903T160831Z
UID:10000275-1726891200-1726905600@www.burlingtonnj.us
SUMMARY:Kids Fishing Derby\, Sylvan Lake
DESCRIPTION:
URL:https://www.burlingtonnj.us/event/kids-fishing-derby-sylvan-lake/
LOCATION:Sylvan Lake\, 24 17th Street\, Burlington\, NJ\, 08016\, United States
CATEGORIES:Activities,Community
ATTACH;FMTTYPE=application/pdf:https://www.burlingtonnj.us/wp-content/uploads/2024/04/kids-fishing-Sep-2024-portrait.pdf
END:VEVENT
BEGIN:VEVENT
DTSTART;TZID=America/New_York:20240921T100000
DTEND;TZID=America/New_York:20240921T130000
DTSTAMP:20260422T174831
CREATED:20240919T190432Z
LAST-MODIFIED:20240919T192745Z
UID:10000895-1726912800-1726923600@www.burlingtonnj.us
SUMMARY:Prep Rally
DESCRIPTION:
URL:https://www.burlingtonnj.us/event/prep-rally/
LOCATION:Burlington County Library\, 5 Pioneer Blvd\, Westampton\, NJ\, 08060\, United States
CATEGORIES:Community,Workshops
ATTACH;FMTTYPE=image/jpeg:https://www.burlingtonnj.us/wp-content/uploads/2024/09/LEMC-Prep-Rally-Flyer-SEP-2024.jpg
END:VEVENT
BEGIN:VEVENT
DTSTART;TZID=America/New_York:20240921T153000
DTEND;TZID=America/New_York:20240921T153000
DTSTAMP:20260422T174831
CREATED:20240903T164320Z
LAST-MODIFIED:20240919T205737Z
UID:10000900-1726932600-1726932600@www.burlingtonnj.us
SUMMARY:Hispanic Heritage Celebration 2024
DESCRIPTION:
URL:https://www.burlingtonnj.us/event/hispanic-heritage-celebration-2024/
LOCATION:Burlington County Amphitheater\, 5 Pioneer Boulevard\, Westampton\, NJ\, 08060\, United States
CATEGORIES:Community,Food/Drink,Live Music
ATTACH;FMTTYPE=application/pdf:https://www.burlingtonnj.us/wp-content/uploads/2024/09/2024-Hispanic-Heritage-Festival-Flyer-1-Yol-Ang-1-1.pdf
END:VEVENT
END:VCALENDAR