BEGIN:VCALENDAR
VERSION:2.0
PRODID:-//Burlington NJ - ECPv6.15.20//NONSGML v1.0//EN
CALSCALE:GREGORIAN
METHOD:PUBLISH
X-WR-CALNAME:Burlington NJ
X-ORIGINAL-URL:https://www.burlingtonnj.us
X-WR-CALDESC:Events for Burlington NJ
REFRESH-INTERVAL;VALUE=DURATION:PT1H
X-Robots-Tag:noindex
X-PUBLISHED-TTL:PT1H
BEGIN:VTIMEZONE
TZID:America/New_York
BEGIN:DAYLIGHT
TZOFFSETFROM:-0500
TZOFFSETTO:-0400
TZNAME:EDT
DTSTART:20230312T070000
END:DAYLIGHT
BEGIN:STANDARD
TZOFFSETFROM:-0400
TZOFFSETTO:-0500
TZNAME:EST
DTSTART:20231105T060000
END:STANDARD
BEGIN:DAYLIGHT
TZOFFSETFROM:-0500
TZOFFSETTO:-0400
TZNAME:EDT
DTSTART:20240310T070000
END:DAYLIGHT
BEGIN:STANDARD
TZOFFSETFROM:-0400
TZOFFSETTO:-0500
TZNAME:EST
DTSTART:20241103T060000
END:STANDARD
BEGIN:DAYLIGHT
TZOFFSETFROM:-0500
TZOFFSETTO:-0400
TZNAME:EDT
DTSTART:20250309T070000
END:DAYLIGHT
BEGIN:STANDARD
TZOFFSETFROM:-0400
TZOFFSETTO:-0500
TZNAME:EST
DTSTART:20251102T060000
END:STANDARD
END:VTIMEZONE
BEGIN:VEVENT
DTSTART;TZID=America/New_York:20241008T190000
DTEND;TZID=America/New_York:20241008T210000
DTSTAMP:20260420T095527
CREATED:20240703T185638Z
LAST-MODIFIED:20260302T151957Z
UID:10000846-1728414000-1728421200@www.burlingtonnj.us
SUMMARY:Common Council (Work Session)
DESCRIPTION:
URL:https://www.burlingtonnj.us/event/common-council-work-session/2024-10-08/
LOCATION:City Hall\, 525 High Street\, Burlington\, NJ\, 08016\, United States
CATEGORIES:Common Council,Meetings
END:VEVENT
BEGIN:VEVENT
DTSTART;TZID=America/New_York:20241011T120000
DTEND;TZID=America/New_York:20241011T140000
DTSTAMP:20260420T095527
CREATED:20240920T154051Z
LAST-MODIFIED:20240920T154246Z
UID:10000969-1728648000-1728655200@www.burlingtonnj.us
SUMMARY:Crochet Fridays with Robin
DESCRIPTION:
URL:https://www.burlingtonnj.us/event/crochet-fridays-with-robin/2024-10-11/
LOCATION:Keegan Recreation Center\, 522 Wood Street\, Burlington City (Burlington County\, NJ)\, NJ\, 08016\, United States
CATEGORIES:Activities,Community,Workshops
ATTACH;FMTTYPE=image/png:https://www.burlingtonnj.us/wp-content/uploads/2024/09/Senior-Crochet-Class-1.png
END:VEVENT
BEGIN:VEVENT
DTSTART;TZID=America/New_York:20241012T090000
DTEND;TZID=America/New_York:20241012T160000
DTSTAMP:20260420T095527
CREATED:20240816T195957Z
LAST-MODIFIED:20240816T200556Z
UID:10000863-1728723600-1728748800@www.burlingtonnj.us
SUMMARY:Burlington Island 400th Commemoration
DESCRIPTION:
URL:https://www.burlingtonnj.us/event/burlington-island-400th-commemoration/
LOCATION:Burlington Riverfront Promenade\, 1 Pearl Boulevard\, Burlington\, NJ\, 08016\, United States
CATEGORIES:Activities,Community
ATTACH;FMTTYPE=application/pdf:https://www.burlingtonnj.us/wp-content/uploads/2024/08/Burlington-Island-400th-Commemoration-6.pdf
END:VEVENT
BEGIN:VEVENT
DTSTART;TZID=America/New_York:20241012T100000
DTEND;TZID=America/New_York:20241012T113000
DTSTAMP:20260420T095527
CREATED:20240917T221618Z
LAST-MODIFIED:20240919T193549Z
UID:10000892-1728727200-1728732600@www.burlingtonnj.us
SUMMARY:Food Bank at the Keegan Center
DESCRIPTION:
URL:https://www.burlingtonnj.us/event/food-bank-at-the-keegan-center/
LOCATION:Keegan Recreation Center\, 522 Wood Street\, Burlington City (Burlington County\, NJ)\, NJ\, 08016\, United States
CATEGORIES:Community
ATTACH;FMTTYPE=image/jpeg:https://www.burlingtonnj.us/wp-content/uploads/2024/09/Hope-Mobile-October-Flyer.jpg
END:VEVENT
BEGIN:VEVENT
DTSTART;TZID=America/New_York:20241013T090000
DTEND;TZID=America/New_York:20241013T130000
DTSTAMP:20260420T095527
CREATED:20240730T182632Z
LAST-MODIFIED:20240903T162818Z
UID:10000851-1728810000-1728824400@www.burlingtonnj.us
SUMMARY:FALL 2024 FALL SHREDDING EVENTS
DESCRIPTION:Fall Shredding Events – Burlington NJ\n        \n                    File size: 366.07 KB\n                    Created: 30-07-2024\n                    Updated: 31-07-2024\n                    Hits: 379\n        \n    \n    \n                                \n                    \n                    Download\n                \n                    \n                        \n                        Preview
URL:https://www.burlingtonnj.us/event/5044/2024-10-13/
LOCATION:Burlington County Resource Recovery Complex\, 22000 Burlington-Columbus Road\, Florence\, New Jersey\, 08518
CATEGORIES:Community
ATTACH;FMTTYPE=application/pdf:https://www.burlingtonnj.us/wp-content/uploads/2024/07/Fall-Shredding-Events-–-Burlington-NJ-4.pdf
END:VEVENT
END:VCALENDAR