BEGIN:VCALENDAR
VERSION:2.0
PRODID:-//Burlington NJ - ECPv6.15.20//NONSGML v1.0//EN
CALSCALE:GREGORIAN
METHOD:PUBLISH
X-WR-CALNAME:Burlington NJ
X-ORIGINAL-URL:https://www.burlingtonnj.us
X-WR-CALDESC:Events for Burlington NJ
REFRESH-INTERVAL;VALUE=DURATION:PT1H
X-Robots-Tag:noindex
X-PUBLISHED-TTL:PT1H
BEGIN:VTIMEZONE
TZID:America/New_York
BEGIN:DAYLIGHT
TZOFFSETFROM:-0500
TZOFFSETTO:-0400
TZNAME:EDT
DTSTART:20240310T070000
END:DAYLIGHT
BEGIN:STANDARD
TZOFFSETFROM:-0400
TZOFFSETTO:-0500
TZNAME:EST
DTSTART:20241103T060000
END:STANDARD
BEGIN:DAYLIGHT
TZOFFSETFROM:-0500
TZOFFSETTO:-0400
TZNAME:EDT
DTSTART:20250309T070000
END:DAYLIGHT
BEGIN:STANDARD
TZOFFSETFROM:-0400
TZOFFSETTO:-0500
TZNAME:EST
DTSTART:20251102T060000
END:STANDARD
BEGIN:DAYLIGHT
TZOFFSETFROM:-0500
TZOFFSETTO:-0400
TZNAME:EDT
DTSTART:20260308T070000
END:DAYLIGHT
BEGIN:STANDARD
TZOFFSETFROM:-0400
TZOFFSETTO:-0500
TZNAME:EST
DTSTART:20261101T060000
END:STANDARD
END:VTIMEZONE
BEGIN:VEVENT
DTSTART;TZID=America/New_York:20250218T190000
DTEND;TZID=America/New_York:20250218T210000
DTSTAMP:20260425T171022
CREATED:20250107T154137Z
LAST-MODIFIED:20260302T151840Z
UID:10001277-1739905200-1739912400@www.burlingtonnj.us
SUMMARY:Common Council Meeting
DESCRIPTION:Meetings are held every 1st and 3rd Tuesday of the month\, except in August\, November\, and December.
URL:https://www.burlingtonnj.us/event/common-council-meeting-4/2025-02-18/
LOCATION:City Hall\, 525 High Street\, Burlington\, NJ\, 08016\, United States
CATEGORIES:Common Council,Meetings
END:VEVENT
BEGIN:VEVENT
DTSTART;TZID=America/New_York:20250219T123000
DTEND;TZID=America/New_York:20250219T143000
DTSTAMP:20260425T171022
CREATED:20250205T183453Z
LAST-MODIFIED:20250205T183453Z
UID:10001544-1739968200-1739975400@www.burlingtonnj.us
SUMMARY:Wednesday Wellness - Natural Health & Wellness for Seniors
DESCRIPTION:
URL:https://www.burlingtonnj.us/event/wednesday-wellness-natural-health-wellness-for-seniors/2025-02-19/
LOCATION:Keegan Recreation Center\, 522 Wood Street\, Burlington City (Burlington County\, NJ)\, NJ\, 08016\, United States
CATEGORIES:Activities,Community
ATTACH;FMTTYPE=image/jpeg:https://www.burlingtonnj.us/wp-content/uploads/2025/02/Wednesday-Wellness.jpg
END:VEVENT
BEGIN:VEVENT
DTSTART;TZID=America/New_York:20250220T113000
DTEND;TZID=America/New_York:20250220T130000
DTSTAMP:20260425T171022
CREATED:20250205T183047Z
LAST-MODIFIED:20250205T183047Z
UID:10001542-1740051000-1740056400@www.burlingtonnj.us
SUMMARY:Color Your Stress Away
DESCRIPTION:
URL:https://www.burlingtonnj.us/event/color-your-stress-away/
LOCATION:Keegan Recreation Center\, 522 Wood Street\, Burlington City (Burlington County\, NJ)\, NJ\, 08016\, United States
CATEGORIES:Activities,Community
ATTACH;FMTTYPE=image/jpeg:https://www.burlingtonnj.us/wp-content/uploads/2025/02/Senior-Rec-Coloring.jpg
END:VEVENT
BEGIN:VEVENT
DTSTART;TZID=America/New_York:20250221T180000
DTEND;TZID=America/New_York:20250221T210000
DTSTAMP:20260425T171022
CREATED:20250213T193920Z
LAST-MODIFIED:20250213T195051Z
UID:10001546-1740160800-1740171600@www.burlingtonnj.us
SUMMARY:A Celebration of Local Iconic Heroes/Sheroes
DESCRIPTION:
URL:https://www.burlingtonnj.us/event/a-celebration-of-local-iconic-heroes-sheroes/
LOCATION:Rowan College at Burlington County Votta Hall Auditorium\, 900 College Circle\, Mount Laurel\, NJ\, 08054\, United States
CATEGORIES:Activities,Community
ATTACH;FMTTYPE=image/jpeg:https://www.burlingtonnj.us/wp-content/uploads/2025/02/2025-UGRR-Flyer_010225-Cheryl-final-drp-01062025-iii-scaled.jpg
ORGANIZER;CN="Underground Railroad Musuem":MAILTO:info@hugrrmbc.org
END:VEVENT
BEGIN:VEVENT
DTSTART;TZID=America/New_York:20250223T103000
DTEND;TZID=America/New_York:20250223T113000
DTSTAMP:20260425T171022
CREATED:20241219T163241Z
LAST-MODIFIED:20241219T163321Z
UID:10001209-1740306600-1740310200@www.burlingtonnj.us
SUMMARY:Theatre Tots
DESCRIPTION:
URL:https://www.burlingtonnj.us/event/theatre-tots/2025-02-23/
LOCATION:H.T. Costello Lyceum Hall\, 432 High Street\, Burlington City (Burlington County\, NJ)\, NJ\, 08016\, United States
CATEGORIES:Activities,Community,Workshops
ATTACH;FMTTYPE=image/jpeg:https://www.burlingtonnj.us/wp-content/uploads/2024/12/Lyceum-Hall-Theatre-Tots-scaled.jpg
END:VEVENT
END:VCALENDAR