BEGIN:VCALENDAR
VERSION:2.0
PRODID:-//Burlington NJ - ECPv6.15.20//NONSGML v1.0//EN
CALSCALE:GREGORIAN
METHOD:PUBLISH
X-ORIGINAL-URL:https://www.burlingtonnj.us
X-WR-CALDESC:Events for Burlington NJ
REFRESH-INTERVAL;VALUE=DURATION:PT1H
X-Robots-Tag:noindex
X-PUBLISHED-TTL:PT1H
BEGIN:VTIMEZONE
TZID:America/New_York
BEGIN:DAYLIGHT
TZOFFSETFROM:-0500
TZOFFSETTO:-0400
TZNAME:EDT
DTSTART:20240310T070000
END:DAYLIGHT
BEGIN:STANDARD
TZOFFSETFROM:-0400
TZOFFSETTO:-0500
TZNAME:EST
DTSTART:20241103T060000
END:STANDARD
BEGIN:DAYLIGHT
TZOFFSETFROM:-0500
TZOFFSETTO:-0400
TZNAME:EDT
DTSTART:20250309T070000
END:DAYLIGHT
BEGIN:STANDARD
TZOFFSETFROM:-0400
TZOFFSETTO:-0500
TZNAME:EST
DTSTART:20251102T060000
END:STANDARD
BEGIN:DAYLIGHT
TZOFFSETFROM:-0500
TZOFFSETTO:-0400
TZNAME:EDT
DTSTART:20260308T070000
END:DAYLIGHT
BEGIN:STANDARD
TZOFFSETFROM:-0400
TZOFFSETTO:-0500
TZNAME:EST
DTSTART:20261101T060000
END:STANDARD
END:VTIMEZONE
BEGIN:VEVENT
DTSTART;TZID=America/New_York:20250325T090000
DTEND;TZID=America/New_York:20250325T150000
DTSTAMP:20260424T182529
CREATED:20250225T201226Z
LAST-MODIFIED:20250225T201226Z
UID:10001555-1742893200-1742914800@www.burlingtonnj.us
SUMMARY:Mobile NJ MVC
DESCRIPTION:
URL:https://www.burlingtonnj.us/event/mobile-nj-mvc/
LOCATION:Tabernacle Baptist Church\, 150 E 2nd St\, Burlington\, NJ\, 08016\, United States
CATEGORIES:Community,Workshops
ATTACH;FMTTYPE=image/jpeg:https://www.burlingtonnj.us/wp-content/uploads/2025/02/NJMVC-Mobile-Unit-Flyer-scaled.jpg
END:VEVENT
BEGIN:VEVENT
DTSTART;TZID=America/New_York:20250326T110000
DTEND;TZID=America/New_York:20250326T140000
DTSTAMP:20260424T182529
CREATED:20250319T162446Z
LAST-MODIFIED:20250319T162446Z
UID:10001566-1742986800-1742997600@www.burlingtonnj.us
SUMMARY:A Day of Healing
DESCRIPTION:
URL:https://www.burlingtonnj.us/event/a-day-of-healing/
LOCATION:Keegan Recreation Center\, 522 Wood Street\, Burlington City (Burlington County\, NJ)\, NJ\, 08016\, United States
CATEGORIES:Activities,Community,Food/Drink
ATTACH;FMTTYPE=image/png:https://www.burlingtonnj.us/wp-content/uploads/2025/03/Womens-Day-1.png
END:VEVENT
BEGIN:VEVENT
DTSTART;TZID=America/New_York:20250326T190000
DTEND;TZID=America/New_York:20250326T210000
DTSTAMP:20260424T182529
CREATED:20250128T182658Z
LAST-MODIFIED:20260302T150832Z
UID:10001480-1743015600-1743022800@www.burlingtonnj.us
SUMMARY:Land Use Board Meeting
DESCRIPTION:The City of Burlington Land Use Board Meetings are generally held on the fourth Wednesday of each month beginning at 7:00 PM. Meetings will be conducted in person at The City of Burlington Municipal Building\, Council Chambers\, 525 High Street\, Burlington\, NJ 08016. \nIf in the future\, it is decided that meetings are to be held virtually via Zoom\, log-in instructions for each scheduled meeting date can be located under the Land Use Division at www.burlingtonnj.us no later than ten (10) days before the scheduled meeting. \nQuestions may be addressed by contacting the Board Secretary at lubsecretary@www.burlingtonnj.us or (609) 386-0200\, ext. 147. \nALL UNSCHEDULED MEETINGS WILL BE DULY ADVERTISED AND POSTED IN ACCORDANCE WITH CHAPTER 231\, P.L. 1975\, THE OPEN PUBLIC MEETINGS ACT Consistent with N.J.A.C. 5:39-1\, this annual notice is to be posted on the City website and on the door of the main public entrance to the building where the Land Use Board’s regular public meetings are held\, along with the door for any designated and clearly delineated handicap accessible entrance. \nLand Use Board
URL:https://www.burlingtonnj.us/event/land-use-board-meeting-3/2025-03-26/
LOCATION:City Hall\, 525 High Street\, Burlington\, NJ\, 08016\, United States
CATEGORIES:Land-Use Board,Meetings
END:VEVENT
BEGIN:VEVENT
DTSTART;TZID=America/New_York:20250327T113000
DTEND;TZID=America/New_York:20250327T130000
DTSTAMP:20260424T182529
CREATED:20250221T194854Z
LAST-MODIFIED:20250221T194854Z
UID:10001549-1743075000-1743080400@www.burlingtonnj.us
SUMMARY:Color Your Stress Away
DESCRIPTION:
URL:https://www.burlingtonnj.us/event/color-your-stress-away-2/
LOCATION:Keegan Recreation Center\, 522 Wood Street\, Burlington City (Burlington County\, NJ)\, NJ\, 08016\, United States
CATEGORIES:Activities,Community
ATTACH;FMTTYPE=image/png:https://www.burlingtonnj.us/wp-content/uploads/2025/02/Senior-Recreation-3.27.25.png
END:VEVENT
BEGIN:VEVENT
DTSTART;TZID=America/New_York:20250329T190000
DTEND;TZID=America/New_York:20250329T230000
DTSTAMP:20260424T182529
CREATED:20250312T182843Z
LAST-MODIFIED:20250312T182843Z
UID:10001562-1743274800-1743289200@www.burlingtonnj.us
SUMMARY:60s 70s & 80s Dance Party
DESCRIPTION:
URL:https://www.burlingtonnj.us/event/60s-70s-80s-dance-party/
LOCATION:Roma Club\, 739 Lincoln Ave\, Burlington\, NJ\, 08016\, United States
CATEGORIES:Activities,Community,Food/Drink,Live Music
ATTACH;FMTTYPE=image/jpeg:https://www.burlingtonnj.us/wp-content/uploads/2025/03/Roma-Club-Dance-Party.jpg
END:VEVENT
BEGIN:VEVENT
DTSTART;TZID=America/New_York:20250330T090000
DTEND;TZID=America/New_York:20250330T130000
DTSTAMP:20260424T182529
CREATED:20250213T195504Z
LAST-MODIFIED:20250213T195723Z
UID:10001547-1743325200-1743339600@www.burlingtonnj.us
SUMMARY:Spring 2025 Paper Shredding Events
DESCRIPTION:
URL:https://www.burlingtonnj.us/event/spring-2025-paper-shredding-events/2025-03-30/
LOCATION:Burlington County Institute of Technology\, 695 Woodlane Road\, Westampton\, NJ\, 08060\, United States
CATEGORIES:Activities,Community
ATTACH;FMTTYPE=image/jpeg:https://www.burlingtonnj.us/wp-content/uploads/2025/02/SpringShredHalfSheet-0130REV.jpg
END:VEVENT
END:VCALENDAR