BEGIN:VCALENDAR
VERSION:2.0
PRODID:-//Burlington NJ - ECPv6.15.20//NONSGML v1.0//EN
CALSCALE:GREGORIAN
METHOD:PUBLISH
X-WR-CALNAME:Burlington NJ
X-ORIGINAL-URL:https://www.burlingtonnj.us
X-WR-CALDESC:Events for Burlington NJ
REFRESH-INTERVAL;VALUE=DURATION:PT1H
X-Robots-Tag:noindex
X-PUBLISHED-TTL:PT1H
BEGIN:VTIMEZONE
TZID:America/New_York
BEGIN:DAYLIGHT
TZOFFSETFROM:-0500
TZOFFSETTO:-0400
TZNAME:EDT
DTSTART:20240310T070000
END:DAYLIGHT
BEGIN:STANDARD
TZOFFSETFROM:-0400
TZOFFSETTO:-0500
TZNAME:EST
DTSTART:20241103T060000
END:STANDARD
BEGIN:DAYLIGHT
TZOFFSETFROM:-0500
TZOFFSETTO:-0400
TZNAME:EDT
DTSTART:20250309T070000
END:DAYLIGHT
BEGIN:STANDARD
TZOFFSETFROM:-0400
TZOFFSETTO:-0500
TZNAME:EST
DTSTART:20251102T060000
END:STANDARD
BEGIN:DAYLIGHT
TZOFFSETFROM:-0500
TZOFFSETTO:-0400
TZNAME:EDT
DTSTART:20260308T070000
END:DAYLIGHT
BEGIN:STANDARD
TZOFFSETFROM:-0400
TZOFFSETTO:-0500
TZNAME:EST
DTSTART:20261101T060000
END:STANDARD
END:VTIMEZONE
BEGIN:VEVENT
DTSTART;TZID=America/New_York:20250408T120000
DTEND;TZID=America/New_York:20250408T160000
DTSTAMP:20260424T142633
CREATED:20250404T181245Z
LAST-MODIFIED:20250404T181620Z
UID:10001574-1744113600-1744128000@www.burlingtonnj.us
SUMMARY:Hope One Information Workshop
DESCRIPTION:
URL:https://www.burlingtonnj.us/event/hope-one-mobile-unit/
LOCATION:Resources for Independent Living\, 351 High Street\, Burlington\, NJ\, 08016\, United States
CATEGORIES:Activities,Community,Workshops
ATTACH;FMTTYPE=image/png:https://www.burlingtonnj.us/wp-content/uploads/2025/04/Hope-One.png
END:VEVENT
BEGIN:VEVENT
DTSTART;TZID=America/New_York:20250409T093000
DTEND;TZID=America/New_York:20250409T153000
DTSTAMP:20260424T142633
CREATED:20250320T152952Z
LAST-MODIFIED:20250320T152952Z
UID:10001567-1744191000-1744212600@www.burlingtonnj.us
SUMMARY:Burlington County Utility Assistance Day
DESCRIPTION:
URL:https://www.burlingtonnj.us/event/burlington-county-utility-assistance-day/
LOCATION:Tabernacle Baptist Church\, 150 E 2nd St\, Burlington\, NJ\, 08016\, United States
CATEGORIES:Community,Seminars
ATTACH;FMTTYPE=image/jpeg:https://www.burlingtonnj.us/wp-content/uploads/2025/03/UAD-Flyer-English-1.jpg
END:VEVENT
BEGIN:VEVENT
DTSTART;TZID=America/New_York:20250410T171500
DTEND;TZID=America/New_York:20250410T184500
DTSTAMP:20260424T142633
CREATED:20250317T181537Z
LAST-MODIFIED:20250317T181537Z
UID:10001565-1744305300-1744310700@www.burlingtonnj.us
SUMMARY:Climate Change-Related Hazard Vulnerability Assessment Public Workshop
DESCRIPTION:
URL:https://www.burlingtonnj.us/event/climate-change-related-hazard-vulnerability-assessment-public-workshop/
LOCATION:Burlington Township Municipal Building\, 851 Old York Road\, Burlington\, NJ\, 08016\, United States
CATEGORIES:Community,Workshops
ATTACH;FMTTYPE=image/jpeg:https://www.burlingtonnj.us/wp-content/uploads/2025/03/Burlington-CCRHVA-Group-3-April-10-Meeting-Announcement-revised.jpg
END:VEVENT
BEGIN:VEVENT
DTSTART;TZID=America/New_York:20250411T190000
DTEND;TZID=America/New_York:20250411T210000
DTSTAMP:20260424T142633
CREATED:20250312T203558Z
LAST-MODIFIED:20250401T200911Z
UID:10001563-1744398000-1744405200@www.burlingtonnj.us
SUMMARY:Portraits Quartet - Afro-Peruvian Jazz (CANCELLED)
DESCRIPTION:
URL:https://www.burlingtonnj.us/event/portraits-quartet-afro-peruvian-jazz/
LOCATION:H.T. Costello Lyceum Hall\, 432 High Street\, Burlington City (Burlington County\, NJ)\, NJ\, 08016\, United States
CATEGORIES:Activities,Community,Live Music
ATTACH;FMTTYPE=image/png:https://www.burlingtonnj.us/wp-content/uploads/2025/03/portraits-cancelled.png
END:VEVENT
BEGIN:VEVENT
DTSTART;TZID=America/New_York:20250411T193000
DTEND;TZID=America/New_York:20250411T210000
DTSTAMP:20260424T142633
CREATED:20250221T220039Z
LAST-MODIFIED:20250221T220039Z
UID:10001552-1744399800-1744405200@www.burlingtonnj.us
SUMMARY:Fabulous Fifties
DESCRIPTION:
URL:https://www.burlingtonnj.us/event/fabulous-fifties/2025-04-11/
LOCATION:Wilber Watts Intermediate School\, 550 High Street\, Burlington\, NJ\, 08016\, United States
CATEGORIES:Activities,Community,Live Music
ATTACH;FMTTYPE=image/jpeg:https://www.burlingtonnj.us/wp-content/uploads/2025/02/faabulous-fifties-scaled.jpg
END:VEVENT
BEGIN:VEVENT
DTSTART;TZID=America/New_York:20250412T100000
DTEND;TZID=America/New_York:20250412T113000
DTSTAMP:20260424T142633
CREATED:20250311T185342Z
LAST-MODIFIED:20250311T185342Z
UID:10001561-1744452000-1744457400@www.burlingtonnj.us
SUMMARY:Food Bank at the Keegan Center
DESCRIPTION:
URL:https://www.burlingtonnj.us/event/food-bank-at-the-keegan-center-6/
LOCATION:Keegan Recreation Center\, 522 Wood Street\, Burlington City (Burlington County\, NJ)\, NJ\, 08016\, United States
CATEGORIES:Community
ATTACH;FMTTYPE=image/jpeg:https://www.burlingtonnj.us/wp-content/uploads/2025/03/April-Food-bank-scaled.jpg
END:VEVENT
BEGIN:VEVENT
DTSTART;TZID=America/New_York:20250412T100000
DTEND;TZID=America/New_York:20250412T130000
DTSTAMP:20260424T142633
CREATED:20250326T185806Z
LAST-MODIFIED:20250326T185806Z
UID:10001571-1744452000-1744462800@www.burlingtonnj.us
SUMMARY:Adult\, Youth & Family Volunteer Opportunities Fair 2025
DESCRIPTION:
URL:https://www.burlingtonnj.us/event/adult-youth-family-volunteer-opportunities-fair-2025/
LOCATION:Burlington County Library\, 5 Pioneer Blvd\, Westampton\, NJ\, 08060\, United States
CATEGORIES:Activities,Community
ATTACH;FMTTYPE=image/jpeg:https://www.burlingtonnj.us/wp-content/uploads/2025/03/Volunteer-Fair-2025-Flyer-APR.jpg
ORGANIZER;CN="Volunteer Center of Burlington County":MAILTO:info@vcobc.org
END:VEVENT
BEGIN:VEVENT
DTSTART;TZID=America/New_York:20250412T190000
DTEND;TZID=America/New_York:20250412T203000
DTSTAMP:20260424T142633
CREATED:20250312T203717Z
LAST-MODIFIED:20250312T203717Z
UID:10001564-1744484400-1744489800@www.burlingtonnj.us
SUMMARY:William Margaretta Nature's Mirror
DESCRIPTION:
URL:https://www.burlingtonnj.us/event/william-margaretta-natures-mirror/
LOCATION:H.T. Costello Lyceum Hall\, 432 High Street\, Burlington City (Burlington County\, NJ)\, NJ\, 08016\, United States
CATEGORIES:Activities,Community
ATTACH;FMTTYPE=image/png:https://www.burlingtonnj.us/wp-content/uploads/2025/03/Margaretta-flyer-4.png
END:VEVENT
BEGIN:VEVENT
DTSTART;TZID=America/New_York:20250412T193000
DTEND;TZID=America/New_York:20250412T210000
DTSTAMP:20260424T142633
CREATED:20250221T220039Z
LAST-MODIFIED:20250221T220039Z
UID:10001553-1744486200-1744491600@www.burlingtonnj.us
SUMMARY:Fabulous Fifties
DESCRIPTION:
URL:https://www.burlingtonnj.us/event/fabulous-fifties/2025-04-12/
LOCATION:Wilber Watts Intermediate School\, 550 High Street\, Burlington\, NJ\, 08016\, United States
CATEGORIES:Activities,Community,Live Music
ATTACH;FMTTYPE=image/jpeg:https://www.burlingtonnj.us/wp-content/uploads/2025/02/faabulous-fifties-scaled.jpg
END:VEVENT
BEGIN:VEVENT
DTSTART;TZID=America/New_York:20250413T140000
DTEND;TZID=America/New_York:20250413T160000
DTSTAMP:20260424T142633
CREATED:20250221T220039Z
LAST-MODIFIED:20250221T220039Z
UID:10001554-1744552800-1744560000@www.burlingtonnj.us
SUMMARY:Fabulous Fifties
DESCRIPTION:
URL:https://www.burlingtonnj.us/event/fabulous-fifties/2025-04-13/
LOCATION:Wilber Watts Intermediate School\, 550 High Street\, Burlington\, NJ\, 08016\, United States
CATEGORIES:Activities,Community,Live Music
ATTACH;FMTTYPE=image/jpeg:https://www.burlingtonnj.us/wp-content/uploads/2025/02/faabulous-fifties-scaled.jpg
END:VEVENT
END:VCALENDAR