BEGIN:VCALENDAR
VERSION:2.0
PRODID:-//Burlington NJ - ECPv6.15.20//NONSGML v1.0//EN
CALSCALE:GREGORIAN
METHOD:PUBLISH
X-ORIGINAL-URL:https://www.burlingtonnj.us
X-WR-CALDESC:Events for Burlington NJ
REFRESH-INTERVAL;VALUE=DURATION:PT1H
X-Robots-Tag:noindex
X-PUBLISHED-TTL:PT1H
BEGIN:VTIMEZONE
TZID:America/New_York
BEGIN:DAYLIGHT
TZOFFSETFROM:-0500
TZOFFSETTO:-0400
TZNAME:EDT
DTSTART:20240310T070000
END:DAYLIGHT
BEGIN:STANDARD
TZOFFSETFROM:-0400
TZOFFSETTO:-0500
TZNAME:EST
DTSTART:20241103T060000
END:STANDARD
BEGIN:DAYLIGHT
TZOFFSETFROM:-0500
TZOFFSETTO:-0400
TZNAME:EDT
DTSTART:20250309T070000
END:DAYLIGHT
BEGIN:STANDARD
TZOFFSETFROM:-0400
TZOFFSETTO:-0500
TZNAME:EST
DTSTART:20251102T060000
END:STANDARD
BEGIN:DAYLIGHT
TZOFFSETFROM:-0500
TZOFFSETTO:-0400
TZNAME:EDT
DTSTART:20260308T070000
END:DAYLIGHT
BEGIN:STANDARD
TZOFFSETFROM:-0400
TZOFFSETTO:-0500
TZNAME:EST
DTSTART:20261101T060000
END:STANDARD
END:VTIMEZONE
BEGIN:VEVENT
DTSTART;TZID=America/New_York:20250909T190000
DTEND;TZID=America/New_York:20250909T210000
DTSTAMP:20260423T074127
CREATED:20240703T185638Z
LAST-MODIFIED:20260302T151957Z
UID:10001721-1757444400-1757451600@www.burlingtonnj.us
SUMMARY:Common Council (Work Session)
DESCRIPTION:
URL:https://www.burlingtonnj.us/event/common-council-work-session/2025-09-09/
LOCATION:City Hall\, 525 High Street\, Burlington\, NJ\, 08016\, United States
CATEGORIES:Common Council,Meetings
END:VEVENT
BEGIN:VEVENT
DTSTART;TZID=America/New_York:20250909T190000
DTEND;TZID=America/New_York:20250909T210000
DTSTAMP:20260423T074127
CREATED:20250107T153630Z
LAST-MODIFIED:20251217T193812Z
UID:10001343-1757444400-1757451600@www.burlingtonnj.us
SUMMARY:Common Council Meeting
DESCRIPTION:Meetings are held every 1st and 3rd Tuesday of the month\, except in August\, November\, and December.
URL:https://www.burlingtonnj.us/event/common-council-meeting-3/2025-09-09/
LOCATION:City Hall\, 525 High Street\, Burlington\, NJ\, 08016\, United States
CATEGORIES:Common Council,Meetings
END:VEVENT
BEGIN:VEVENT
DTSTART;TZID=America/New_York:20250913T100000
DTEND;TZID=America/New_York:20250913T113000
DTSTAMP:20260423T074127
CREATED:20250818T201538Z
LAST-MODIFIED:20250818T201538Z
UID:10001630-1757757600-1757763000@www.burlingtonnj.us
SUMMARY:Food Bank at the Keegan Center
DESCRIPTION:
URL:https://www.burlingtonnj.us/event/food-bank-at-the-keegan-center-10/
LOCATION:Keegan Recreation Center\, 522 Wood Street\, Burlington City (Burlington County\, NJ)\, NJ\, 08016\, United States
CATEGORIES:Activities,Community
ATTACH;FMTTYPE=image/jpeg:https://www.burlingtonnj.us/wp-content/uploads/2025/08/September-Food-bank-2025-scaled.jpg
END:VEVENT
BEGIN:VEVENT
DTSTART;TZID=America/New_York:20250913T120000
DTEND;TZID=America/New_York:20250913T170000
DTSTAMP:20260423T074127
CREATED:20250610T183103Z
LAST-MODIFIED:20250610T183103Z
UID:10001613-1757764800-1757782800@www.burlingtonnj.us
SUMMARY:Burlington Hops and Rocks Beer & Music Festival
DESCRIPTION:
URL:https://www.burlingtonnj.us/event/burlington-hops-and-rocks-beer-music-festival/
LOCATION:Burlington Riverfront Promenade\, 1 Pearl Boulevard\, Burlington\, NJ\, 08016\, United States
CATEGORIES:Activities,Community,Food/Drink,Live Music
ATTACH;FMTTYPE=image/png:https://www.burlingtonnj.us/wp-content/uploads/2025/06/Burlington-Hops-and-Rocks.png
END:VEVENT
END:VCALENDAR