BEGIN:VCALENDAR
VERSION:2.0
PRODID:-//Burlington NJ - ECPv6.15.20//NONSGML v1.0//EN
CALSCALE:GREGORIAN
METHOD:PUBLISH
X-ORIGINAL-URL:https://www.burlingtonnj.us
X-WR-CALDESC:Events for Burlington NJ
REFRESH-INTERVAL;VALUE=DURATION:PT1H
X-Robots-Tag:noindex
X-PUBLISHED-TTL:PT1H
BEGIN:VTIMEZONE
TZID:America/New_York
BEGIN:DAYLIGHT
TZOFFSETFROM:-0500
TZOFFSETTO:-0400
TZNAME:EDT
DTSTART:20250309T070000
END:DAYLIGHT
BEGIN:STANDARD
TZOFFSETFROM:-0400
TZOFFSETTO:-0500
TZNAME:EST
DTSTART:20251102T060000
END:STANDARD
BEGIN:DAYLIGHT
TZOFFSETFROM:-0500
TZOFFSETTO:-0400
TZNAME:EDT
DTSTART:20260308T070000
END:DAYLIGHT
BEGIN:STANDARD
TZOFFSETFROM:-0400
TZOFFSETTO:-0500
TZNAME:EST
DTSTART:20261101T060000
END:STANDARD
BEGIN:DAYLIGHT
TZOFFSETFROM:-0500
TZOFFSETTO:-0400
TZNAME:EDT
DTSTART:20270314T070000
END:DAYLIGHT
BEGIN:STANDARD
TZOFFSETFROM:-0400
TZOFFSETTO:-0500
TZNAME:EST
DTSTART:20271107T060000
END:STANDARD
END:VTIMEZONE
BEGIN:VEVENT
DTSTART;TZID=America/New_York:20260120T190000
DTEND;TZID=America/New_York:20260120T210000
DTSTAMP:20260422T200940
CREATED:20250107T154137Z
LAST-MODIFIED:20260302T151840Z
UID:10001700-1768935600-1768942800@www.burlingtonnj.us
SUMMARY:Common Council Meeting
DESCRIPTION:Meetings are held every 1st and 3rd Tuesday of the month\, except in August\, November\, and December.
URL:https://www.burlingtonnj.us/event/common-council-meeting-4/2026-01-20/
LOCATION:City Hall\, 525 High Street\, Burlington\, NJ\, 08016\, United States
CATEGORIES:Common Council,Meetings
END:VEVENT
BEGIN:VEVENT
DTSTART;TZID=America/New_York:20260122T190000
DTEND;TZID=America/New_York:20260122T203000
DTSTAMP:20260422T200940
CREATED:20260302T152909Z
LAST-MODIFIED:20260302T152909Z
UID:10001787-1769108400-1769113800@www.burlingtonnj.us
SUMMARY:Housing Authority Meeting
DESCRIPTION:All meetings and work sessions will be held at the Housing Authority Office located at 800 Walnut Street\, Burlington\, NJ 08016. All interested individuals are invited to attend and comments. Anyone in need of special accommodations or access due to disability should contact the Housing Authority Office at (609) 386-0246 before the meeting.
URL:https://www.burlingtonnj.us/event/housing-authority-meeting/2026-01-22/
LOCATION:Housing Authority Office\, 800 Walnut Street\, Burlington\, NJ\, 08016\, United States
CATEGORIES:Housing Authority
END:VEVENT
BEGIN:VEVENT
DTSTART;TZID=America/New_York:20260123T190000
DTEND;TZID=America/New_York:20260123T203000
DTSTAMP:20260422T200940
CREATED:20251211T162933Z
LAST-MODIFIED:20251211T162933Z
UID:10001670-1769194800-1769200200@www.burlingtonnj.us
SUMMARY:Pete Green African-American Memorabilia
DESCRIPTION:
URL:https://www.burlingtonnj.us/event/pete-green-african-american-memorabilia/
LOCATION:H.T. Costello Lyceum Hall\, 432 High Street\, Burlington City (Burlington County\, NJ)\, NJ\, 08016\, United States
CATEGORIES:Activities,Community
ATTACH;FMTTYPE=image/png:https://www.burlingtonnj.us/wp-content/uploads/2025/12/Pete-Green-flyer-Jan-2026.png
END:VEVENT
END:VCALENDAR