BEGIN:VCALENDAR
VERSION:2.0
PRODID:-//Burlington NJ - ECPv6.15.20//NONSGML v1.0//EN
CALSCALE:GREGORIAN
METHOD:PUBLISH
X-WR-CALNAME:Burlington NJ
X-ORIGINAL-URL:https://www.burlingtonnj.us
X-WR-CALDESC:Events for Burlington NJ
REFRESH-INTERVAL;VALUE=DURATION:PT1H
X-Robots-Tag:noindex
X-PUBLISHED-TTL:PT1H
BEGIN:VTIMEZONE
TZID:America/New_York
BEGIN:DAYLIGHT
TZOFFSETFROM:-0500
TZOFFSETTO:-0400
TZNAME:EDT
DTSTART:20230312T070000
END:DAYLIGHT
BEGIN:STANDARD
TZOFFSETFROM:-0400
TZOFFSETTO:-0500
TZNAME:EST
DTSTART:20231105T060000
END:STANDARD
BEGIN:DAYLIGHT
TZOFFSETFROM:-0500
TZOFFSETTO:-0400
TZNAME:EDT
DTSTART:20240310T070000
END:DAYLIGHT
BEGIN:STANDARD
TZOFFSETFROM:-0400
TZOFFSETTO:-0500
TZNAME:EST
DTSTART:20241103T060000
END:STANDARD
BEGIN:DAYLIGHT
TZOFFSETFROM:-0500
TZOFFSETTO:-0400
TZNAME:EDT
DTSTART:20250309T070000
END:DAYLIGHT
BEGIN:STANDARD
TZOFFSETFROM:-0400
TZOFFSETTO:-0500
TZNAME:EST
DTSTART:20251102T060000
END:STANDARD
BEGIN:DAYLIGHT
TZOFFSETFROM:-0500
TZOFFSETTO:-0400
TZNAME:EDT
DTSTART:20260308T070000
END:DAYLIGHT
BEGIN:STANDARD
TZOFFSETFROM:-0400
TZOFFSETTO:-0500
TZNAME:EST
DTSTART:20261101T060000
END:STANDARD
END:VTIMEZONE
BEGIN:VEVENT
DTSTART;TZID=America/New_York:20251004T090000
DTEND;TZID=America/New_York:20251004T150000
DTSTAMP:20260421T142929
CREATED:20250724T195328Z
LAST-MODIFIED:20250724T195328Z
UID:10001622-1759568400-1759590000@www.burlingtonnj.us
SUMMARY:East Union Street Yard Sale
DESCRIPTION:
URL:https://www.burlingtonnj.us/event/east-union-street-yard-sale-3/
LOCATION:East Union Street\, East Union Street\, Burlington\, NJ\, 08016\, United States
CATEGORIES:Activities,Community,Food/Drink
ATTACH;FMTTYPE=image/jpeg:https://www.burlingtonnj.us/wp-content/uploads/2025/07/East-Union-Street-Yard-Sale-2025.jpg
ORGANIZER;CN="Historic Yorkshire Alliance":MAILTO:ubgoodharry@yahoo.com
END:VEVENT
BEGIN:VEVENT
DTSTART;TZID=America/New_York:20241005T090000
DTEND;TZID=America/New_York:20241005T150000
DTSTAMP:20260421T142929
CREATED:20240927T211750Z
LAST-MODIFIED:20240927T211750Z
UID:10001171-1728118800-1728140400@www.burlingtonnj.us
SUMMARY:East Union Street Yard Sale
DESCRIPTION:In 2022\, HYA raised close to $1976 from rents after all printing\, materials\, and ad costs.\nThe proceeds are given back to the Historic Yorkshire community by way of scholarships\, biannual potlucks\, and other in-need giving. \n(Oct 6th Rain Date)
URL:https://www.burlingtonnj.us/event/east-union-street-yard-sale-2/
LOCATION:East Union Street\, East Union Street\, Burlington\, NJ\, 08016\, United States
CATEGORIES:Community
ATTACH;FMTTYPE=image/png:https://www.burlingtonnj.us/wp-content/uploads/2024/09/East-Union-Street-Yard-Sale.png
ORGANIZER;CN="Historic Yorkshire Alliance":MAILTO:ubgoodharry@yahoo.com
END:VEVENT
BEGIN:VEVENT
DTSTART;TZID=America/New_York:20240928T090000
DTEND;TZID=America/New_York:20240928T150000
DTSTAMP:20260421T142929
CREATED:20240417T212109Z
LAST-MODIFIED:20240927T211614Z
UID:10000277-1727514000-1727535600@www.burlingtonnj.us
SUMMARY:East Union Street Yard Sale has been RESCHEDULED
DESCRIPTION:In 2022\, HYA raised close to $1976 from rents after all printing\, materials\, and ad costs.\nThe proceeds are given back to the Historic Yorkshire community by way of scholarships\, biannual potlucks\, and other in-need giving. \n(RESCHEDULED to Saturday\, October 5th from 9am to 3pm with a Rain Date of Sunday\, October 6th)
URL:https://www.burlingtonnj.us/event/east-union-street-yard-sale/
LOCATION:East Union Street\, East Union Street\, Burlington\, NJ\, 08016\, United States
CATEGORIES:Community
ATTACH;FMTTYPE=image/png:https://www.burlingtonnj.us/wp-content/uploads/2024/04/East-Union-Street-Yard-Sale.png
ORGANIZER;CN="Historic Yorkshire Alliance":MAILTO:ubgoodharry@yahoo.com
END:VEVENT
END:VCALENDAR